BEGIN:VCALENDAR
VERSION:2.0
PRODID:-//ChamberMaster//Event Calendar 2.0//EN
METHOD:PUBLISH
X-PUBLISHED-TTL:P3D
REFRESH-INTERVAL:P3D
CALSCALE:GREGORIAN
BEGIN:VEVENT
DTSTART:20211203T230000Z
DTEND:20211203T060000Z
X-MICROSOFT-CDO-ALLDAYEVENT:FALSE
SUMMARY:10th Annual GHCA Awards Gala: Building Georgia
DESCRIPTION:The Georgia Hispanic Construction Association is proud to invite you this year to its 10th Annual Awards Gala: Building Georgia 2021. Every year\, the GHCA recognizes companies and individuals who make a difference in our industry and community and celebrates the gift of diversity and the incredible joy it brings into our lives. Please scroll down and check out previous year's Award Winners\, nominate companies and individuals in this year's Awards Gala\, see our picture gallery and even learn how to become a Sponsor of this magnificent event.
X-ALT-DESC;FMTTYPE=text/html:<span style="font-size: 16px\; caret-color: rgb(28\, 28\, 28)\; color: rgb(28\, 28\, 28)\; font-family: Helvetica\, Verdana\, Arial\, sans-serif\;">The Georgia Hispanic Construction Association is proud to invite you this year to its 10th Annual Awards Gala: Building Georgia 2021. Every year\, the GHCA recognizes companies and individuals who make a difference in our industry and community and celebrates the gift of diversity and the incredible joy it brings into our lives. Please scroll down and check out previous year&#39\;s Award Winners\, nominate companies and individuals in this year&#39\;s Awards Gala\, see our picture gallery and even learn how to become a Sponsor of this magnificent event.</span>
LOCATION:
UID:e.9342.1594
SEQUENCE:3
DTSTAMP:20260422T151308Z
URL:http://georgiahcaga.memberzone.com/events/details/10th-annual-ghca-awards-gala-building-georgia-1594
END:VEVENT

END:VCALENDAR
