BEGIN:VCALENDAR
VERSION:2.0
PRODID:-//ChamberMaster//Event Calendar 2.0//EN
METHOD:PUBLISH
X-PUBLISHED-TTL:P3D
REFRESH-INTERVAL:P3D
CALSCALE:GREGORIAN
BEGIN:VEVENT
DTSTART;VALUE=DATE:20240510
DTEND;VALUE=DATE:20240511
TRANSP:TRANSPARENT
X-MICROSOFT-CDO-ALLDAYEVENT:TRUE
SUMMARY:2024 GHCA Golf Tournament
DESCRIPTION:GHCA Golf Tournament 2024\n\nIn 2021\, the GHCA celebrated its 10th anniversary by having a high-quality\, super fun Golf Tournament at Bear's Best Atlanta. For the fourth consecutive year\, on Friday\, May 10\, 2024\, Join us for an afternoon of golf and fun sharing and networking with Georgia's finest construction companies.\n\nYou will have the opportunity to promote your business\, network\, and have plenty of fun in a beautiful round of golf at Bear's Best Atlanta. We are also thrilled to announce that Subcontractors\, General Contractors\, and Associates members can purchase a Foursome (teams of 2) and let the GHCA match you with other member companies.\n\nCheck out all the fun ways to participate
X-ALT-DESC;FMTTYPE=text/html:<h2 style="font-weight: 700\; line-height: 1.4\; box-sizing: border-box\; font-family: Helvetica\, Verdana\, Arial\, sans-serif\; color: rgb(28\, 28\, 28)\; margin-top: 20px\; margin-bottom: 10px\; font-size: 40px\; letter-spacing: 1px\; caret-color: rgb(28\, 28\, 28)\;"><span style="font-size:22px\;"><span style="font-family:tahoma\;"><span style="color:#000000\;">GHCA Golf Tournament 2024</span></span></span></h2>\n\n<p style="font-size: 16px\; box-sizing: border-box\; margin: 0px 0px 10px\; caret-color: rgb(28\, 28\, 28)\; color: rgb(28\, 28\, 28)\; font-family: Helvetica\, Verdana\, Arial\, sans-serif\;"><span style="font-size:22px\;">In 2021\, the GHCA celebrated its 10th anniversary by having a high-quality\, super fun Golf Tournament at Bear&#39\;s Best Atlanta. For the fourth consecutive year\, on Friday\, May 10\, 2024\, Join us for an afternoon of golf and fun sharing and networking with Georgia&#39\;s finest construction companies.</span></p>\n\n<p style="font-size: 16px\; box-sizing: border-box\; margin: 0px 0px 10px\; caret-color: rgb(28\, 28\, 28)\; color: rgb(28\, 28\, 28)\; font-family: Helvetica\, Verdana\, Arial\, sans-serif\;"><span style="font-size:22px\;">You will have the opportunity to promote your business\, network\, and have plenty of fun in a beautiful round of golf at Bear&#39\;s Best Atlanta. We are also thrilled to announce that Subcontractors\, General Contractors\, and Associates members can purchase a Foursome (teams of 2) and let the GHCA match you with other member companies.</span></p>\n\n<p style="font-size: 16px\; box-sizing: border-box\; margin: 0px 0px 10px\; caret-color: rgb(28\, 28\, 28)\; color: rgb(28\, 28\, 28)\; font-family: Helvetica\, Verdana\, Arial\, sans-serif\;"><span style="font-size:22px\;"><span style="font-family:tahoma\;"><a href="https://www.georgiahca.org/ghca-golf-tournament-2022/"><span style="color:#000000\;">Check out all the fun ways to participate</span></a></span></span></p>\n
LOCATION:Bear's Best Atlanta Bear's Best Atlanta is one of the best daily fee courses in Georgia\, offering corporate entertaining\, golf outings and providing the experience of a luxurious private club at a public facility for all golfers. Jack Nicklaus chose 18 of his best and most memorable designs for this course. 5342 Aldeburgh Drive\, Suwanee\, GA 30024 678.714.2582
UID:e.9342.1783
SEQUENCE:3
DTSTAMP:20260419T224553Z
URL:http://georgiahcaga.memberzone.com/events/details/2024-ghca-golf-tournament-1783
END:VEVENT

END:VCALENDAR
