BEGIN:VCALENDAR
VERSION:2.0
PRODID:-//ChamberMaster//Event Calendar 2.0//EN
METHOD:PUBLISH
X-PUBLISHED-TTL:P3D
REFRESH-INTERVAL:P3D
CALSCALE:GREGORIAN
BEGIN:VEVENT
DTSTART:20210217T213000Z
DTEND:20210217T233000Z
X-MICROSOFT-CDO-ALLDAYEVENT:FALSE
SUMMARY:Academia de Negocios 2021
DESCRIPTION:La Academia de Negocios de Construcci n 2021 es un programa dise ado por la Asociacion Hispana de Construcci n de Georgia dirigido a los due os de compa ias que planeen establecer o crecer su negocio de manera estructurada. Los instructores son expertos en el area de construcci n que compartir n sus conocimientos y experiencias en un ambiente de colaboraci n y apoyo.\n\nNo se puede perder este Programa que consiste en 10 sesiones que se llevar n a cabo todos los mi rcoles desde el 17 de Febrero al 21 de Abril de 4:30 pm a 6:30 pm.\n\nPara mayor informaci n por favor comun quese al 404-229-8070\n\nLos temas a tratar ser n los siguientes:\n\n1. Planeaci n Estrategica\n\n2. Contabilidad y Auditorias\n\n3. Estimacion de costos\n\n4. Contractos y protecci n legal\n\n5. Fianzas y seguros\n\n6. Tecnolog a\n\n7. Gerencia de Proyectos\n\n8. Ventas y Mercadeo\n\n9. Comunicaci n en el lugar de trabajo\n\n10.Certificacion de Minorias\n\nPuede inscribirse para las 10 sesiones y recibir  un certificado de GHCA al asistir a 7 clases como m nimo\, o puede inscribirse para una o varias sesiones de acuerdo a sus necesidades especificas.\n\nLos esperamos
X-ALT-DESC;FMTTYPE=text/html:<div class="kvgmc6g5 cxmmr5t8 oygrvhab hcukyx3x c1et5uql" style="overflow-wrap: break-word\; margin: 0px\; font-family: &quot\;Segoe UI Historic&quot\;\, &quot\;Segoe UI&quot\;\, Helvetica\, Arial\, sans-serif\; color: rgb(5\, 5\, 5)\; font-size: 15px\;"><span style="font-family:tahoma\;"><span style="font-size:18px\;">La Academia de Negocios de Construcci&oacute\;n 2021 es un programa dise&ntilde\;ado por la Asociacion Hispana de Construcci&oacute\;n de Georgia dirigido a los due&ntilde\;os de compa&ntilde\;ias que planeen establecer o crecer su negocio de manera estructurada. Los instructores son expertos en el area de construcci&oacute\;n que compartir&aacute\;n sus conocimientos y experiencias en un ambiente de colaboraci&oacute\;n y apoyo.</span></span></div>\n\n<div class="o9v6fnle cxmmr5t8 oygrvhab hcukyx3x c1et5uql" style="overflow-wrap: break-word\; margin: 0.5em 0px 0px\; font-family: &quot\;Segoe UI Historic&quot\;\, &quot\;Segoe UI&quot\;\, Helvetica\, Arial\, sans-serif\; color: rgb(5\, 5\, 5)\; font-size: 15px\;"><span style="font-family:tahoma\;"><span style="font-size:18px\;">No se puede perder este Programa que consiste en 10 sesiones que se llevar&aacute\;n a cabo todos los mi&eacute\;rcoles desde el 17 de Febrero al 21 de Abril de 4:30 pm a 6:30 pm.<br />\nPara mayor informaci&oacute\;n por favor comun&iacute\;quese al 404-229-8070</span></span></div>\n\n<div class="o9v6fnle cxmmr5t8 oygrvhab hcukyx3x c1et5uql" style="overflow-wrap: break-word\; margin: 0.5em 0px 0px\; font-family: &quot\;Segoe UI Historic&quot\;\, &quot\;Segoe UI&quot\;\, Helvetica\, Arial\, sans-serif\; color: rgb(5\, 5\, 5)\; font-size: 15px\;"><span style="font-family:tahoma\;"><span style="font-size:18px\;">Los temas a tratar ser&aacute\;n los siguientes:</span></span></div>\n\n<div class="o9v6fnle cxmmr5t8 oygrvhab hcukyx3x c1et5uql" style="overflow-wrap: break-word\; margin: 0.5em 0px 0px\; font-family: &quot\;Segoe UI Historic&quot\;\, &quot\;Segoe UI&quot\;\, Helvetica\, Arial\, sans-serif\; color: rgb(5\, 5\, 5)\; font-size: 15px\;"><span style="font-family:tahoma\;"><span style="font-size:18px\;">1. Planeaci&oacute\;n Estrategica<br />\n2. Contabilidad y Auditorias<br />\n3. Estimacion de costos<br />\n4. Contractos y protecci&oacute\;n legal<br />\n5. Fianzas y seguros<br />\n6. Tecnolog&iacute\;a<br />\n7. Gerencia de Proyectos<br />\n8. Ventas y Mercadeo<br />\n9. Comunicaci&oacute\;n en el lugar de trabajo<br />\n10.Certificacion de Minorias</span></span></div>\n\n<div class="o9v6fnle cxmmr5t8 oygrvhab hcukyx3x c1et5uql" style="overflow-wrap: break-word\; margin: 0.5em 0px 0px\; font-family: &quot\;Segoe UI Historic&quot\;\, &quot\;Segoe UI&quot\;\, Helvetica\, Arial\, sans-serif\; color: rgb(5\, 5\, 5)\; font-size: 15px\;"><span style="font-family:tahoma\;"><span style="font-size:18px\;">Puede inscribirse para las 10 sesiones y recibir&aacute\; un certificado de GHCA al asistir a 7 clases como m&iacute\;nimo\, o puede inscribirse para una o varias sesiones de acuerdo a sus necesidades especificas.</span></span></div>\n\n<div class="o9v6fnle cxmmr5t8 oygrvhab hcukyx3x c1et5uql" style="overflow-wrap: break-word\; margin: 0.5em 0px 0px\; font-family: &quot\;Segoe UI Historic&quot\;\, &quot\;Segoe UI&quot\;\, Helvetica\, Arial\, sans-serif\; color: rgb(5\, 5\, 5)\; font-size: 15px\;"><span style="font-family:tahoma\;"><span style="font-size:18px\;">Los esperamos</span></span></div>\n
LOCATION:Online Class
UID:e.9342.1539
SEQUENCE:3
DTSTAMP:20260423T093538Z
URL:http://georgiahcaga.memberzone.com/events/details/academia-de-negocios-2021-1539
END:VEVENT

END:VCALENDAR
