BEGIN:VCALENDAR
VERSION:2.0
PRODID:-//ChamberMaster//Event Calendar 2.0//EN
METHOD:PUBLISH
X-PUBLISHED-TTL:P3D
REFRESH-INTERVAL:P3D
CALSCALE:GREGORIAN
BEGIN:VEVENT
DTSTART:20220216T213000Z
DTEND:20220216T233000Z
X-MICROSOFT-CDO-ALLDAYEVENT:FALSE
SUMMARY:Academia de Negocios 2022 | Contabilidad y Finanzas
DESCRIPTION:Segunda sesi n de Academia de Negocios donde contaremos con la participaci n de dos profesionales expertos en el manejo de las finanzas y la organizaci n de cuentas de empresas de construcci n.  No se la puede perder!\n\n\n\n Clase impartida en espa ol!
X-ALT-DESC;FMTTYPE=text/html:<font color="#050505"><font face="tahoma"><span style="font-size: 22px\; white-space: pre-wrap\;">Segunda sesi&oacute\;n de <strong><em>Academia de Negocios</em></strong> donde contaremos con la participaci&oacute\;n de dos profesionales expertos en el manejo de las finanzas y la organizaci&oacute\;n de cuentas de empresas de construcci&oacute\;n.</span></font></font><span style="color:#000000\;"><font face="tahoma"><span style="white-space: pre-wrap\;"> </span></font><span style="font-size:22px\;"><span style="font-family: Roboto\, Helvetica\, sans-serif\;">&iexcl\;</span></span></span><font color="#050505"><font face="tahoma"><span style="font-size: 22px\; white-space: pre-wrap\;">No se la puede perder!</span></font></font><br />\n<br />\n<span style="color:#000000\;"><span style="font-size:22px\;"><span style="font-family: Roboto\, Helvetica\, sans-serif\;">&iexcl\;</span></span></span><font color="#050505"><font face="tahoma"><span style="font-size: 22px\; white-space: pre-wrap\;">Clase impartida en espa&ntilde\;ol! </span></font></font>
LOCATION:CLASE ONLINE - Link compartido una vez se registre
UID:e.9342.1606
SEQUENCE:3
DTSTAMP:20260422T114749Z
URL:http://georgiahcaga.memberzone.com/events/details/academia-de-negocios-2022-contabilidad-y-finanzas-1606
END:VEVENT

END:VCALENDAR
