BEGIN:VCALENDAR
VERSION:2.0
PRODID:-//ChamberMaster//Event Calendar 2.0//EN
METHOD:PUBLISH
X-PUBLISHED-TTL:P3D
REFRESH-INTERVAL:P3D
CALSCALE:GREGORIAN
BEGIN:VEVENT
DTSTART:20220302T213000Z
DTEND:20220302T233000Z
X-MICROSOFT-CDO-ALLDAYEVENT:FALSE
SUMMARY:Academia de Negocios 2022 | Contratos y Protección Legal
DESCRIPTION:Esta cuarta sesi n de la Academia de Negocios le brindar  a los asistentes informaci n actualizada sobre conceptos y aspectos legales relacionados especificamente con el sector de la construcci n. Son herramientas esenciales que\, correctamente aplicadas\, permitir n el buen funcionamiento de su empresa. \n\n\n\n**Clase impartida en espa ol**
X-ALT-DESC;FMTTYPE=text/html:<span style="font-family:tahoma\;"><span style="color:#000000\;"><span style="font-size: 22px\; white-space: pre-wrap\;">Esta cuarta sesi&oacute\;n de la <strong>Academia de Negocios </strong>le brindar&aacute\; a los asistentes informaci&oacute\;n actualizada sobre conceptos y aspectos legales relacionados especificamente con el sector de la construcci&oacute\;n. Son herramientas esenciales que\, correctamente aplicadas\, permitir&aacute\;n el buen funcionamiento de su empresa. </span><br />\n<br />\n<span style="font-size: 22px\; white-space: pre-wrap\;">**Clase impartida en espa&ntilde\;ol**</span></span></span>
LOCATION:TBA
UID:e.9342.1608
SEQUENCE:3
DTSTAMP:20260422T100614Z
URL:http://georgiahcaga.memberzone.com/events/details/academia-de-negocios-2022-contratos-y-protecci&#243;n-legal-1608
END:VEVENT

END:VCALENDAR
