BEGIN:VCALENDAR
VERSION:2.0
PRODID:-//ChamberMaster//Event Calendar 2.0//EN
METHOD:PUBLISH
X-PUBLISHED-TTL:P3D
REFRESH-INTERVAL:P3D
CALSCALE:GREGORIAN
BEGIN:VEVENT
DTSTART:20220413T203000Z
DTEND:20220413T223000Z
X-MICROSOFT-CDO-ALLDAYEVENT:FALSE
SUMMARY:Academia de Negocios 2022 | Estimación de costos
DESCRIPTION:Novena Sesión de la Academia de Negocios.\n\n\n\nClase impartida en español!
X-ALT-DESC;FMTTYPE=text/html:<span style="font-size:22px\;"><span style="font-family:tahoma\;"><font color="#050505"><span style="white-space: pre-wrap\;">Novena Sesión de la Academia de Negocios.<br>\n<br>\nClase impartida en español! </span></font></span></span>
LOCATION:**Evento virtual** El link se compartirá luego del registro
UID:e.9342.1614
SEQUENCE:3
DTSTAMP:20260422T095410Z
URL:http://georgiahcaga.memberzone.com/events/details/academia-de-negocios-2022-estimaci&#243;n-de-costos-04-13-2022-1614
END:VEVENT

END:VCALENDAR
