BEGIN:VCALENDAR
VERSION:2.0
PRODID:-//ChamberMaster//Event Calendar 2.0//EN
METHOD:PUBLISH
X-PUBLISHED-TTL:P3D
REFRESH-INTERVAL:P3D
CALSCALE:GREGORIAN
BEGIN:VEVENT
DTSTART:20220316T203000Z
DTEND:20220316T223000Z
X-MICROSOFT-CDO-ALLDAYEVENT:FALSE
SUMMARY:Academia de Negocios 2022 | Fianzas y Seguros
DESCRIPTION:Quinta Sesi n de la Academia de Negocios\, donde estaremos discutiendo algunos principios de seguros y fianzas relacionados con el sector de la construcci n. Entre ellos:  posibles exposiciones a p rdida que existen en el sector\, la responsabilidad de un contratista general y la de un subcontratista y c mo estas diferencias se reflejan en las p lizas de seguro. Tambi n compartiremos informaci n clave de los productos de seguro m s comunes y sus consideraciones\,  medidas de control de riesgo y manejo de reclamaciones.  \n\n\n\n Clase impartida en espa ol!
X-ALT-DESC;FMTTYPE=text/html:<span style="font-size:20px\;"><font color="#050505"><span style="white-space: pre-wrap\;">Quinta Sesi&oacute\;n de la Academia de Negocios\, donde estaremos discutiendo algunos</span></font><span lang="es-CU" style="color: rgb(34\, 34\, 34)\; font-style: normal\; font-family: Tahoma\, sans-serif\;">&nbsp\;principios de seguros y fianzas relacionados con el sector de la construcci&oacute\;n. Entre ellos:&nbsp\; </span><span lang="es-CU" style="color: rgb(34\, 34\, 34)\; font-style: normal\; font-family: Tahoma\, sans-serif\;">posibles exposiciones a p</span><span lang="ES-PR" style="color: rgb(34\, 34\, 34)\; font-style: normal\; font-family: Tahoma\, sans-serif\;">&eacute\;</span><span lang="es-CU" style="color: rgb(34\, 34\, 34)\; font-style: normal\; font-family: Tahoma\, sans-serif\;">rdida que existen en el sector\,</span><span lang="es-CU" style="color: rgb(34\, 34\, 34)\; font-style: normal\; font-family: Tahoma\, sans-serif\;">&nbsp\;la responsabilidad de un contratista general y la de un subcontratista y c&oacute\;mo estas diferencias se reflejan en las p</span><span lang="ES-PR" style="color: rgb(34\, 34\, 34)\; font-style: normal\; font-family: Tahoma\, sans-serif\;">&oacute\;</span><span lang="es-CU" style="color: rgb(34\, 34\, 34)\; font-style: normal\; font-family: Tahoma\, sans-serif\;">lizas de seguro. Tambi</span><span lang="ES-PR" style="color: rgb(34\, 34\, 34)\; font-style: normal\; font-family: Tahoma\, sans-serif\;">&eacute\;</span><span lang="es-CU" style="color: rgb(34\, 34\, 34)\; font-style: normal\; font-family: Tahoma\, sans-serif\;">n compartiremos informaci</span><span lang="ES-PR" style="color: rgb(34\, 34\, 34)\; font-style: normal\; font-family: Tahoma\, sans-serif\;">&oacute\;</span><span lang="es-CU" style="color: rgb(34\, 34\, 34)\; font-style: normal\; font-family: Tahoma\, sans-serif\;">n clave de los productos de seguro m</span><span style="color: rgb(34\, 34\, 34)\; font-family: Tahoma\, sans-serif\;">&aacute\;</span><span lang="es-CU" style="color: rgb(34\, 34\, 34)\; font-style: normal\; font-family: Tahoma\, sans-serif\;">s comunes y sus consideraciones\,&nbsp\; </span><span lang="es-CU" style="color: rgb(34\, 34\, 34)\; font-style: normal\; font-family: Tahoma\, sans-serif\;">medidas de control de riesgo y manejo de reclamaciones.&nbsp\;&nbsp\;</span></span><br />\n<br />\n<span style="font-size:20px\;"><span style="font-weight: 700\; color: rgb(17\, 17\, 17)\;">&iexcl\;</span><font color="#050505"><span style="white-space: pre-wrap\;">Clase impartida en espa&ntilde\;ol! </span></font></span>
LOCATION:Fulcro Insurance Offices 47 Perimeter Center East\, Atlanta\, GA\, 30346 -Conference Room on Fourth Floor-
UID:e.9342.1610
SEQUENCE:3
DTSTAMP:20260422T100615Z
URL:http://georgiahcaga.memberzone.com/events/details/academia-de-negocios-2022-fianzas-y-seguros-1610
END:VEVENT

END:VCALENDAR
