BEGIN:VCALENDAR
VERSION:2.0
PRODID:-//ChamberMaster//Event Calendar 2.0//EN
METHOD:PUBLISH
X-PUBLISHED-TTL:P3D
REFRESH-INTERVAL:P3D
CALSCALE:GREGORIAN
BEGIN:VEVENT
DTSTART:20220223T213000Z
DTEND:20220223T233000Z
X-MICROSOFT-CDO-ALLDAYEVENT:FALSE
SUMMARY:Academia de Negocios 2022 | Fundamentos de OSHA- Construyendo con Seguridad y Rentabilidad
DESCRIPTION:Sesi n especial de Academia de Negocios donde abordaremos aspectos fundamentales de OSHA que todo contratista /subcontratista debe tener en cuenta para mantener la rentabilidad de su negocio: Penalidades OSHA\, violaciones frecuentes\, c mo evitar multas\, requerimientos m nimos\, planeaci n y rentabilidad de la seguridad.\n\nTodav a tenemos cupos disponibles.  Una sesi n especial que no te puedes perder!\n\n**Clase virtual impartida en espa ol**
X-ALT-DESC;FMTTYPE=text/html:<span style="font-family:tahoma\;"><font color="#050505"><span style="font-size: 22px\; white-space: pre-wrap\;">Sesi&oacute\;n especial de <strong>Academia de Negocios</strong> donde abordaremos aspectos fundamentales de OSHA que todo contratista /subcontratista debe tener en cuenta para mantener la rentabilidad de su negocio: Penalidades OSHA\, violaciones frecuentes\, c&oacute\;mo evitar multas\, requerimientos </span></font><span style="color:#000000\;"><span style="font-size: 22px\; white-space: pre-wrap\;">m</span></span><span style="font-size:22px\;"><span style="color:#000000\;">&iacute\;nimos\, planeaci&oacute\;n y rentabilidad de la seguridad.<br />\nTodav&iacute\;a tenemos cupos disponibles. </span></span></span><span style="color: rgb(0\, 0\, 0)\; font-family: tahoma\; font-size: 22px\;">&iexcl\;</span><span style="font-family:tahoma\;"><span style="font-size:22px\;"><span style="color:#000000\;">Una sesi&oacute\;n especial que no te puedes perder!</span></span></span><br />\n<span style="color:#000000\;"><font face="tahoma"><span style="font-size: 22px\; white-space: pre-wrap\;">**Clase virtual impartida en espa&ntilde\;ol**</span></font></span>
LOCATION:Sesi n virtual\, compartiremos el link previamente.
UID:e.9342.1607
SEQUENCE:3
DTSTAMP:20260422T114749Z
URL:http://georgiahcaga.memberzone.com/events/details/academia-de-negocios-2022-fundamentos-de-osha-construyendo-con-seguridad-y-rentabilidad-1607
END:VEVENT

END:VCALENDAR
