BEGIN:VCALENDAR
VERSION:2.0
PRODID:-//ChamberMaster//Event Calendar 2.0//EN
METHOD:PUBLISH
X-PUBLISHED-TTL:P3D
REFRESH-INTERVAL:P3D
CALSCALE:GREGORIAN
BEGIN:VEVENT
DTSTART:20220330T203000Z
DTEND:20220330T223000Z
X-MICROSOFT-CDO-ALLDAYEVENT:FALSE
SUMMARY:Academia de Negocios 2022 |Marca y Servicio
DESCRIPTION:S ptima Sesi n de la Academia de Negocios.\n\n\n\nClase impartida en espa ol!
X-ALT-DESC;FMTTYPE=text/html:<span style="font-size:22px\;"><span style="font-family:tahoma\;"><font color="#050505"><span style="white-space: pre-wrap\;">S&eacute\;ptima Sesi&oacute\;n de la Academia de Negocios.<br />\n<br />\nClase impartida en espa&ntilde\;ol! </span></font></span></span>
LOCATION:**Clase online** El link se compartir con los asistentes posterior al registro
UID:e.9342.1612
SEQUENCE:3
DTSTAMP:20260422T100524Z
URL:http://georgiahcaga.memberzone.com/events/details/academia-de-negocios-2022-marca-y-servicio-1612
END:VEVENT

END:VCALENDAR
