BEGIN:VCALENDAR
VERSION:2.0
PRODID:-//ChamberMaster//Event Calendar 2.0//EN
METHOD:PUBLISH
X-PUBLISHED-TTL:P3D
REFRESH-INTERVAL:P3D
CALSCALE:GREGORIAN
BEGIN:VEVENT
DTSTART:20220209T213000Z
DTEND:20220209T233000Z
X-MICROSOFT-CDO-ALLDAYEVENT:FALSE
SUMMARY:Academia de Negocios 2022 | Planificación Estratégica
DESCRIPTION:Primera Sesi n de la Academia de Negocios  til para que su negocio se estructura de forma organizada. No se puede perder esta clase en la que tendremos a un experto consultor de Negocios\, quien compartir  sus experiencias y conocimiento para lograr el  xito de tu empresa.\n\n\n\nClase impartida en espa ol!
X-ALT-DESC;FMTTYPE=text/html:<span style="font-size:22px\;"><span style="font-family:tahoma\;"><font color="#050505"><span style="white-space: pre-wrap\;">Primera Sesi&oacute\;n de la Academia de Negocios &uacute\;til para que su negocio se estructura de forma organizada. No se puede perder esta clase en la que tendremos a un experto consultor de Negocios\, quien compartir&aacute\; sus experiencias y conocimiento para lograr el &eacute\;xito de tu empresa.<br />\n<br />\nClase impartida en espa&ntilde\;ol! </span></font></span></span>
LOCATION:CLASE ONLINE - Link compartido una vez se registre
UID:e.9342.1605
SEQUENCE:3
DTSTAMP:20260422T114724Z
URL:http://georgiahcaga.memberzone.com/events/details/academia-de-negocios-2022-planificaci&#243;n-estrat&#233;gica-1605
END:VEVENT

END:VCALENDAR
