BEGIN:VCALENDAR
VERSION:2.0
PRODID:-//ChamberMaster//Event Calendar 2.0//EN
METHOD:PUBLISH
X-PUBLISHED-TTL:P3D
REFRESH-INTERVAL:P3D
CALSCALE:GREGORIAN
BEGIN:VEVENT
DTSTART:20210421T203000Z
DTEND:20210421T223000Z
X-MICROSOFT-CDO-ALLDAYEVENT:FALSE
SUMMARY:Academia de Negocios - Certificación de Minorías. Clase # 10
DESCRIPTION:Sabia que existen muchos programas del Gobierno que promueven la inclusi n de las minor as en los procesos de obtenci n de cientos de contratos en el  rea de la construcci n?\n\n\n\nLas certificaciones de minor as brindan un acceso justo por lo cual es esencial que conocer los requerimientos y la manera como se aplica para aprovechar estas oportunidades!\n\n \n\n\n\nAcomp  enos este Mi rcoles\, 21 de Abril de 4:30 pm a 6:30 pm! Carolina Ramon\, Directora de la oficina de Desarrollo de Negocios para minor as de la\n\nUniversidad de Georgia\n- SBDC explicar  de una manera sencilla este proceso.\n\n \n\n\n\nNo se lo pueden perder! Para registrarse por favor llamar al 404-229-8070
X-ALT-DESC;FMTTYPE=text/html:<div class="kvgmc6g5 cxmmr5t8 oygrvhab hcukyx3x c1et5uql ii04i59q" style="word-wrap: break-word\; margin: 0px\; white-space: pre-wrap\; font-family: system-ui\, -apple-system\, BlinkMacSystemFont\, &quot\;.SFNSText-Regular&quot\;\, sans-serif\; caret-color: rgb(5\, 5\, 5)\; color: rgb(5\, 5\, 5)\; font-size: 15px\;">\n<div dir="auto" style="font-family: inherit\;"><span style="font-family:tahoma\;"><span style="font-size:20px\;">Sabia que existen muchos programas del Gobierno que promueven la inclusi&oacute\;n de las minor&iacute\;as en los procesos de obtenci&oacute\;n de cientos de contratos en el &aacute\;rea de la construcci&oacute\;n?</span></span></div>\n</div>\n\n<div class="o9v6fnle cxmmr5t8 oygrvhab hcukyx3x c1et5uql ii04i59q" style="word-wrap: break-word\; margin: 0.5em 0px 0px\; white-space: pre-wrap\; font-family: system-ui\, -apple-system\, BlinkMacSystemFont\, &quot\;.SFNSText-Regular&quot\;\, sans-serif\; caret-color: rgb(5\, 5\, 5)\; color: rgb(5\, 5\, 5)\; font-size: 15px\;">\n<div dir="auto" style="font-family: inherit\;"><span style="font-family:tahoma\;"><span style="font-size:20px\;">Las certificaciones de minor&iacute\;as brindan un acceso justo por lo cual es esencial que conocer los requerimientos y la manera como se aplica para aprovechar estas oportunidades!</span></span><br />\n&nbsp\;</div>\n</div>\n\n<div class="o9v6fnle cxmmr5t8 oygrvhab hcukyx3x c1et5uql ii04i59q" style="word-wrap: break-word\; margin: 0.5em 0px 0px\; white-space: pre-wrap\; font-family: system-ui\, -apple-system\, BlinkMacSystemFont\, &quot\;.SFNSText-Regular&quot\;\, sans-serif\; caret-color: rgb(5\, 5\, 5)\; color: rgb(5\, 5\, 5)\; font-size: 15px\;">\n<div dir="auto" style="font-family: inherit\;"><span style="font-family:tahoma\;"><span style="font-size:20px\;">Acomp&aacute\;&ntilde\;enos este Mi&eacute\;rcoles\, 21 de Abril de 4:30 pm a 6:30 pm! Carolina Ramon\, Directora de la oficina de Desarrollo de Negocios para minor&iacute\;as de la</span></span>\n\n<div class="nc684nl6" style="display: inline\; font-family: inherit\;"><span style="font-family:tahoma\;"><span style="font-size:20px\;"><a class="oajrlxb2 g5ia77u1 qu0x051f esr5mh6w e9989ue4 r7d6kgcz rq0escxv nhd2j8a9 nc684nl6 p7hjln8o kvgmc6g5 cxmmr5t8 oygrvhab hcukyx3x jb3vyjys rz4wbd8a qt6c0cv9 a8nywdso i1ao9s8h esuyzwwr f1sip0of lzcic4wl q66pz984 gpro0wi8 b1v8xokw" href="https://www.facebook.com/Universidad-de-Georgia-107600555936538/?__cft__[0]=AZXYKKOTCBIcrmDdBoEcWN_Cn9YIgg2huHfaLmYsAz5tOva0SvEZe0cB0h4K7Bupax-SZAapG8k8C379nOnQ-NbY3FuY5TBm06FnCC_GjzaVttIp4D23F_J3Ppkbg-1mbau7IdHWwV5TtG7fgRgA2JAdLLiWkdfXop0P38kCkwIzZAn6_7SfMyrmvXoIsgwE8Fw&amp\;__tn__=kK-R" role="link" style="color: var(--accent)\; cursor: pointer\; text-decoration: none\; outline: none\; list-style: none\; border: 0px\; padding: 0px\; margin: 0px\; touch-action: manipulation\; text-align: inherit\; display: inline\; box-sizing: border-box\; font-family: inherit\;" tabindex="0">Universidad de Georgia</a></span></span></div>\n<span style="font-family:tahoma\;"><span style="font-size:20px\;">- SBDC explicar&aacute\; de una manera sencilla este proceso.</span></span><br />\n&nbsp\;</div>\n</div>\n\n<div class="o9v6fnle cxmmr5t8 oygrvhab hcukyx3x c1et5uql ii04i59q" style="word-wrap: break-word\; margin: 0.5em 0px 0px\; white-space: pre-wrap\; font-family: system-ui\, -apple-system\, BlinkMacSystemFont\, &quot\;.SFNSText-Regular&quot\;\, sans-serif\; caret-color: rgb(5\, 5\, 5)\; color: rgb(5\, 5\, 5)\; font-size: 15px\;">\n<div dir="auto" style="font-family: inherit\;"><span style="font-family:tahoma\;"><span style="font-size:20px\;">No se lo pueden perder! Para registrarse por favor llamar al 404-229-8070</span></span></div>\n</div>\n
LOCATION:ONLINE
UID:e.9342.1549
SEQUENCE:3
DTSTAMP:20260423T045145Z
URL:http://georgiahcaga.memberzone.com/events/details/academia-de-negocios-certificaci&#243;n-de-minor&#237;as-clase-10-1549
END:VEVENT

END:VCALENDAR
