BEGIN:VCALENDAR
VERSION:2.0
PRODID:-//ChamberMaster//Event Calendar 2.0//EN
METHOD:PUBLISH
X-PUBLISHED-TTL:P3D
REFRESH-INTERVAL:P3D
CALSCALE:GREGORIAN
BEGIN:VEVENT
DTSTART:20200401T203000Z
DTEND:20200401T223000Z
X-MICROSOFT-CDO-ALLDAYEVENT:FALSE
SUMMARY:Online Sesion - Comunicación en el lugar de trabajo. Clase # 9 Academia de Negocios
DESCRIPTION:La Academia de Negocios 2020 es un programa dise ado por la Asociacion Hispana de Construcci n de Georgia dirigido a los due os de compa ias que planeen establecer o crecer su negocio de manera estructurada. Los instructores son expertos en el  rea de construcci n que compartir n sus conocimientos y experiencias en un ambiente de colaboraci n y apoyo.\n\n\n\nNo se puede perder este Programa que consiste en 10 sesiones que se llevar n a cabo todos los mi rcoles desde el 5 de Febrero al 8 de Abril de 4:30 pm a 6:30 pm.\n\nPara mayor informaci n por favor comun quese al 404-229-8070\n\n\n\nLos temas a tratar ser n los siguientes:\n\n\n\n1. Planeaci n Estrat gica\n\n2. Contabilidad\n\n3. Estimaci n de costos\n\n4. Contractos y protecci n legal\n\n5. Fianzas y seguros\n\n6. Tecnolog a\n\n7. Gerencia de Proyectos\n\n8. Ventas y Mercadeo\n\n9. Comunicaci n en el lugar de trabajo\n\n10.Certificaci n de Minor as\n\n\n\nPuede inscribirse para las 10 sesiones y recibir  un certificado de GHCA al asistir a 7 clases como m nimo\, o puede inscribirse para una o varias sesiones de acuerdo a sus necesidades espec ficas.\n\n\n\nLos esperamos!
X-ALT-DESC;FMTTYPE=text/html:<span style="color: rgb(34\, 34\, 34)\; font-family: Arial\, Helvetica\, sans-serif\; font-size: small\;">La Academia de Negocios 2020 es un programa dise&ntilde\;ado por la Asociacion Hispana de Construcci&oacute\;n de Georgia dirigido a los due&ntilde\;os de compa&ntilde\;ias que planeen establecer o crecer su negocio de manera estructurada. Los instructores son expertos en el &aacute\;rea de construcci&oacute\;n que compartir&aacute\;n sus conocimientos y experiencias en un ambiente de colaboraci&oacute\;n y apoyo.</span><br style="color: rgb(34\, 34\, 34)\; font-family: Arial\, Helvetica\, sans-serif\; font-size: small\;" />\n<br style="color: rgb(34\, 34\, 34)\; font-family: Arial\, Helvetica\, sans-serif\; font-size: small\;" />\n<span style="color: rgb(34\, 34\, 34)\; font-family: Arial\, Helvetica\, sans-serif\; font-size: small\;">No se puede perder este Programa que consiste en 10 sesiones que se llevar&aacute\;n a cabo todos los mi&eacute\;rcoles desde el 5 de Febrero al 8 de Abril de 4:30 pm a 6:30 pm.</span><br style="color: rgb(34\, 34\, 34)\; font-family: Arial\, Helvetica\, sans-serif\; font-size: small\;" />\n<span style="color: rgb(34\, 34\, 34)\; font-family: Arial\, Helvetica\, sans-serif\; font-size: small\;">Para mayor informaci&oacute\;n por favor comun&iacute\;quese al 404-229-8070</span><br style="color: rgb(34\, 34\, 34)\; font-family: Arial\, Helvetica\, sans-serif\; font-size: small\;" />\n<br style="color: rgb(34\, 34\, 34)\; font-family: Arial\, Helvetica\, sans-serif\; font-size: small\;" />\n<span style="color: rgb(34\, 34\, 34)\; font-family: Arial\, Helvetica\, sans-serif\; font-size: small\;">Los temas a tratar ser&aacute\;n los siguientes:</span><br style="color: rgb(34\, 34\, 34)\; font-family: Arial\, Helvetica\, sans-serif\; font-size: small\;" />\n<br style="color: rgb(34\, 34\, 34)\; font-family: Arial\, Helvetica\, sans-serif\; font-size: small\;" />\n<span style="color: rgb(34\, 34\, 34)\; font-family: Arial\, Helvetica\, sans-serif\; font-size: small\;">1. Planeaci&oacute\;n Estrat&eacute\;gica</span><br style="color: rgb(34\, 34\, 34)\; font-family: Arial\, Helvetica\, sans-serif\; font-size: small\;" />\n<span style="color: rgb(34\, 34\, 34)\; font-family: Arial\, Helvetica\, sans-serif\; font-size: small\;">2. Contabilidad</span><br style="color: rgb(34\, 34\, 34)\; font-family: Arial\, Helvetica\, sans-serif\; font-size: small\;" />\n<span style="color: rgb(34\, 34\, 34)\; font-family: Arial\, Helvetica\, sans-serif\; font-size: small\;">3. Estimaci&oacute\;n de costos</span><br style="color: rgb(34\, 34\, 34)\; font-family: Arial\, Helvetica\, sans-serif\; font-size: small\;" />\n<span style="color: rgb(34\, 34\, 34)\; font-family: Arial\, Helvetica\, sans-serif\; font-size: small\;">4. Contractos y protecci&oacute\;n legal</span><br style="color: rgb(34\, 34\, 34)\; font-family: Arial\, Helvetica\, sans-serif\; font-size: small\;" />\n<span style="color: rgb(34\, 34\, 34)\; font-family: Arial\, Helvetica\, sans-serif\; font-size: small\;">5. Fianzas y seguros</span><br style="color: rgb(34\, 34\, 34)\; font-family: Arial\, Helvetica\, sans-serif\; font-size: small\;" />\n<span style="color: rgb(34\, 34\, 34)\; font-family: Arial\, Helvetica\, sans-serif\; font-size: small\;">6. Tecnolog&iacute\;a</span><br style="color: rgb(34\, 34\, 34)\; font-family: Arial\, Helvetica\, sans-serif\; font-size: small\;" />\n<span style="color: rgb(34\, 34\, 34)\; font-family: Arial\, Helvetica\, sans-serif\; font-size: small\;">7. Gerencia de Proyectos</span><br style="color: rgb(34\, 34\, 34)\; font-family: Arial\, Helvetica\, sans-serif\; font-size: small\;" />\n<span style="color: rgb(34\, 34\, 34)\; font-family: Arial\, Helvetica\, sans-serif\; font-size: small\;">8. Ventas y Mercadeo</span><br style="color: rgb(34\, 34\, 34)\; font-family: Arial\, Helvetica\, sans-serif\; font-size: small\;" />\n<span style="color: rgb(34\, 34\, 34)\; font-family: Arial\, Helvetica\, sans-serif\; font-size: small\;">9. Comunicaci&oacute\;n en el lugar de trabajo</span><br style="color: rgb(34\, 34\, 34)\; font-family: Arial\, Helvetica\, sans-serif\; font-size: small\;" />\n<span style="color: rgb(34\, 34\, 34)\; font-family: Arial\, Helvetica\, sans-serif\; font-size: small\;">10.Certificaci&oacute\;n de Minor&iacute\;as</span><br style="color: rgb(34\, 34\, 34)\; font-family: Arial\, Helvetica\, sans-serif\; font-size: small\;" />\n<br style="color: rgb(34\, 34\, 34)\; font-family: Arial\, Helvetica\, sans-serif\; font-size: small\;" />\n<span style="color: rgb(34\, 34\, 34)\; font-family: Arial\, Helvetica\, sans-serif\; font-size: small\;">Puede inscribirse para las 10 sesiones y recibir&aacute\; un certificado de GHCA al asistir a 7 clases como m&iacute\;nimo\, o puede inscribirse para una o varias sesiones de acuerdo a sus necesidades espec&iacute\;ficas.</span><br style="color: rgb(34\, 34\, 34)\; font-family: Arial\, Helvetica\, sans-serif\; font-size: small\;" />\n<br style="color: rgb(34\, 34\, 34)\; font-family: Arial\, Helvetica\, sans-serif\; font-size: small\;" />\n<span style="color: rgb(34\, 34\, 34)\; font-family: Arial\, Helvetica\, sans-serif\; font-size: small\;">Los esperamos!</span>
LOCATION:
UID:e.9342.1461
SEQUENCE:3
DTSTAMP:20260424T162947Z
URL:http://georgiahcaga.memberzone.com/events/details/academia-de-negocios-comunicaci&#243;n-en-el-lugar-de-trabajo-clase-9-1461
END:VEVENT

END:VCALENDAR
