BEGIN:VCALENDAR
VERSION:2.0
PRODID:-//ChamberMaster//Event Calendar 2.0//EN
METHOD:PUBLISH
X-PUBLISHED-TTL:P3D
REFRESH-INTERVAL:P3D
CALSCALE:GREGORIAN
BEGIN:VEVENT
DTSTART:20210303T213000Z
DTEND:20210303T233000Z
X-MICROSOFT-CDO-ALLDAYEVENT:FALSE
SUMMARY:Academia de Negocios - Estimación de costos . Clase # 3
DESCRIPTION:Tiene una empresa de Construcci n y tiene dudas acerca de c mo hacer estimados para sus proyectos? Quiere mejorar su estructura y presentaci n para que sean m s efectivos y profesionales?\n\n\n\nEsta sesi n es para usted. Lo esperamos!\n\n\n\nRegistrarse en Georgiahca.org llame al 404-229-8070\n\n\n\nViviana Del Rio es una ingeniera de Preconstruccion en Juneau Construction Company desde 2019. Se gradu  de Ingenier a Civil en Kennesaw State University y ha estado trabajando en la industria de la construcci n por 8 a os. Viviana es responsable por el proceso de solicitud de subcontratistas y el an lisis de responsabilidades de los proyectos asignados. Tambi n est  involucrada en asistir al equipo del proyecto durante la contrataci n de subcontratistas.\n\n\n\n\n\nMauricio Cepeda trabaja en Juneau Construction como ingeniero de preconstruccion. Tiene una Maestr a en Building Construction Management de Georgia Tech y ha estado trabajando en la industria de la construcci n por 7 a os. Mauricio est  involucrado en la fase de dise o\, trabajando mano a mano con el VDC Department\, aliados de arquitectura e ingenier a para asegurar que los proyectos est n dise ados con todos los requerimientos de presupuesto. Tambi n es responsable por el proceso de solicitud de subcontratistas y el an lisis de responsabilidades en proyectos asignados.
X-ALT-DESC;FMTTYPE=text/html:<span style="font-size:18px\;"><span style="font-family:tahoma\;"><span style="color: rgb(5\, 5\, 5)\;">Tiene una empresa de Construcci&oacute\;n y tiene dudas acerca de c&oacute\;mo hacer estimados para sus proyectos? Quiere mejorar su estructura y presentaci&oacute\;n para que sean m&aacute\;s efectivos y profesionales?</span><br />\n<br style="color: rgb(5\, 5\, 5)\; font-family: &quot\;Segoe UI Historic&quot\;\, &quot\;Segoe UI&quot\;\, Helvetica\, Arial\, sans-serif\; font-size: 15px\;" />\n<span style="color: rgb(5\, 5\, 5)\;">Esta sesi&oacute\;n es para usted. Lo esperamos!</span><br style="color: rgb(5\, 5\, 5)\; font-family: &quot\;Segoe UI Historic&quot\;\, &quot\;Segoe UI&quot\;\, Helvetica\, Arial\, sans-serif\; font-size: 15px\;" />\n<br style="color: rgb(5\, 5\, 5)\; font-family: &quot\;Segoe UI Historic&quot\;\, &quot\;Segoe UI&quot\;\, Helvetica\, Arial\, sans-serif\; font-size: 15px\;" />\n<span style="color: rgb(5\, 5\, 5)\;">Registrarse en&nbsp\;</span><span style="color: rgb(5\, 5\, 5)\;"><a class="oajrlxb2 g5ia77u1 qu0x051f esr5mh6w e9989ue4 r7d6kgcz rq0escxv nhd2j8a9 nc684nl6 p7hjln8o kvgmc6g5 cxmmr5t8 oygrvhab hcukyx3x jb3vyjys rz4wbd8a qt6c0cv9 a8nywdso i1ao9s8h esuyzwwr f1sip0of lzcic4wl py34i1dx gpro0wi8" href="http://georgiahca.org/?fbclid=IwAR1u5YCxEhSAOtMPshDfcVKnRN3TmNGaI7PHvm4dO3OkYDndG6jnc6ZlW0c" rel="nofollow noopener" role="link" style="color: var(--blue-link)\; cursor: pointer\; text-decoration-line: none\; outline: none\; list-style: none\; border-width: 0px\; border-style: initial\; border-color: initial\; padding: 0px\; margin: 0px\; touch-action: manipulation\; background-color: transparent\; text-align: inherit\; display: inline\; -webkit-tap-highlight-color: transparent\; box-sizing: border-box\; font-family: inherit\;" tabindex="0" target="_blank">Georgiahca.org</a></span><span style="color: rgb(5\, 5\, 5)\;">&nbsp\;llame al 404-229-8070</span><br style="color: rgb(5\, 5\, 5)\; font-family: &quot\;Segoe UI Historic&quot\;\, &quot\;Segoe UI&quot\;\, Helvetica\, Arial\, sans-serif\; font-size: 15px\;" />\n<br style="color: rgb(5\, 5\, 5)\; font-family: &quot\;Segoe UI Historic&quot\;\, &quot\;Segoe UI&quot\;\, Helvetica\, Arial\, sans-serif\; font-size: 15px\;" />\n<span style="color: rgb(5\, 5\, 5)\;">Viviana Del Rio es una ingeniera de Preconstruccion en Juneau Construction Company desde 2019. Se gradu&oacute\; de Ingenier&iacute\;a Civil en Kennesaw State University y ha estado trabajando en la industria de la construcci&oacute\;n por 8 a&ntilde\;os. Viviana es responsable por el proceso de solicitud de subcontratistas y el an&aacute\;lisis de responsabilidades de los proyectos asignados. Tambi&eacute\;n est&aacute\; involucrada en asistir al equipo del proyecto durante la contrataci&oacute\;n de subcontratistas.</span><br style="color: rgb(5\, 5\, 5)\; font-family: &quot\;Segoe UI Historic&quot\;\, &quot\;Segoe UI&quot\;\, Helvetica\, Arial\, sans-serif\; font-size: 15px\;" />\n<br style="color: rgb(5\, 5\, 5)\; font-family: &quot\;Segoe UI Historic&quot\;\, &quot\;Segoe UI&quot\;\, Helvetica\, Arial\, sans-serif\; font-size: 15px\;" />\n<br style="color: rgb(5\, 5\, 5)\; font-family: &quot\;Segoe UI Historic&quot\;\, &quot\;Segoe UI&quot\;\, Helvetica\, Arial\, sans-serif\; font-size: 15px\;" />\n<span style="color: rgb(5\, 5\, 5)\;">Mauricio Cepeda trabaja en Juneau Construction como ingeniero de preconstruccion. Tiene una Maestr&iacute\;a en Building Construction Management de Georgia Tech y ha estado trabajando en la industria de la construcci&oacute\;n por 7 a&ntilde\;os. Mauricio est&aacute\; involucrado en la fase de dise&ntilde\;o\, trabajando mano a mano con el VDC Department\, aliados de arquitectura e ingenier&iacute\;a para asegurar que los proyectos est&aacute\;n dise&ntilde\;ados con todos los requerimientos de presupuesto. Tambi&eacute\;n es responsable por el proceso de solicitud de subcontratistas y el an&aacute\;lisis de responsabilidades en proyectos asignados.</span></span></span>
LOCATION:ONLINE
UID:e.9342.1541
SEQUENCE:3
DTSTAMP:20260423T081049Z
URL:http://georgiahcaga.memberzone.com/events/details/academia-de-negocios-estimaci&#243;n-de-costos-clase-3-1541
END:VEVENT

END:VCALENDAR
