BEGIN:VCALENDAR
VERSION:2.0
PRODID:-//ChamberMaster//Event Calendar 2.0//EN
METHOD:PUBLISH
X-PUBLISHED-TTL:P3D
REFRESH-INTERVAL:P3D
CALSCALE:GREGORIAN
BEGIN:VEVENT
DTSTART:20210324T203000Z
DTEND:20210324T223000Z
X-MICROSOFT-CDO-ALLDAYEVENT:FALSE
SUMMARY:Academia de Negocios - Tecnología . Clase # 6
DESCRIPTION:La tecnolog a aplicada a los procesos de su empresa de construcci n puede marcar la diferencia!\n\n\n\nRaul Rivera es un emprendedor de tecnolog a en la ciencia de los datos y inteligencia artificial\; enfocado en la Industria del Dise o\, Arquitectura y Construcci n. En el 2018\, funda VIMBright con su socio Arol Wolford\, con la intenci n de innovar en Iberoamerica.\n\n\n\nVIMBright tiene la misi n de combinar las telecomunicaciones\, las ciencias de los datos con la metodolog a BIM\; utilizando como conectores la Realidad Virtual y la Realidad Mixta en los procesos constructivos.\n\n\n\nRaul es graduado del programa de transformaci n digital de negocios de McKinsey Consulting & Co\, en donde utiliza las metodolog as aprendidas en el asesoramiento de empresas. Asimismo\, Raul es graduado de LandMark\, empresa de desarrollo personal.\n\nRaul cuenta con m s de 20 a os de carrera profesional trabajando en diferentes  reas con ARRIS\, ATEME\, Siemens\, NetSpeak\, Cisco Systems y empresas de diversas tecnolog as. En el aspecto acad mico\, Raul cuenta con un en Georgia State University\, USA y Maestr a en Administraci n y Negocios (MBA)\, Maestr a en Ciencias (MSc)\, en la Universidad de Versailles\, Francia\, contando con una especializaci n en Big Data en la Universidad de Emory.\n\n\n\nTambi n nos acompa ar  Germ n Zamora\, Project Manager de P2K quien expondr  tecnolog as en construcci n que usan en sus proyectos y que los ha consolidado como una empresa l der en el sector.
X-ALT-DESC;FMTTYPE=text/html:<span style="font-size:16px\;"><span style="color: rgb(5\, 5\, 5)\; font-family: &quot\;Segoe UI Historic&quot\;\, &quot\;Segoe UI&quot\;\, Helvetica\, Arial\, sans-serif\;">La tecnolog&iacute\;a aplicada a los procesos de su empresa de construcci&oacute\;n puede marcar la diferencia!</span><br />\n<br style="color: rgb(5\, 5\, 5)\; font-family: &quot\;Segoe UI Historic&quot\;\, &quot\;Segoe UI&quot\;\, Helvetica\, Arial\, sans-serif\; font-size: 15px\;" />\n<span style="color: rgb(5\, 5\, 5)\; font-family: &quot\;Segoe UI Historic&quot\;\, &quot\;Segoe UI&quot\;\, Helvetica\, Arial\, sans-serif\;">Raul Rivera es un emprendedor de tecnolog&iacute\;a en la ciencia de los datos y inteligencia artificial\; enfocado en la Industria del Dise&ntilde\;o\, Arquitectura y Construcci&oacute\;n. En el 2018\, funda VIMBright con su socio Arol Wolford\, con la intenci&oacute\;n de innovar en Iberoamerica.</span><br style="color: rgb(5\, 5\, 5)\; font-family: &quot\;Segoe UI Historic&quot\;\, &quot\;Segoe UI&quot\;\, Helvetica\, Arial\, sans-serif\; font-size: 15px\;" />\n<br style="color: rgb(5\, 5\, 5)\; font-family: &quot\;Segoe UI Historic&quot\;\, &quot\;Segoe UI&quot\;\, Helvetica\, Arial\, sans-serif\; font-size: 15px\;" />\n<span style="color: rgb(5\, 5\, 5)\; font-family: &quot\;Segoe UI Historic&quot\;\, &quot\;Segoe UI&quot\;\, Helvetica\, Arial\, sans-serif\;">VIMBright tiene la misi&oacute\;n de combinar las telecomunicaciones\, las ciencias de los datos con la metodolog&iacute\;a BIM\; utilizando como conectores la Realidad Virtual y la Realidad Mixta en los procesos constructivos.</span><br />\n<br style="color: rgb(5\, 5\, 5)\; font-family: &quot\;Segoe UI Historic&quot\;\, &quot\;Segoe UI&quot\;\, Helvetica\, Arial\, sans-serif\; font-size: 15px\;" />\n<span style="color: rgb(5\, 5\, 5)\; font-family: &quot\;Segoe UI Historic&quot\;\, &quot\;Segoe UI&quot\;\, Helvetica\, Arial\, sans-serif\;">Raul es graduado del programa de transformaci&oacute\;n digital de negocios de McKinsey Consulting &amp\; Co\, en donde utiliza las metodolog&iacute\;as aprendidas en el asesoramiento de empresas. Asimismo\, Raul es graduado de LandMark\, empresa de desarrollo personal.</span><br style="color: rgb(5\, 5\, 5)\; font-family: &quot\;Segoe UI Historic&quot\;\, &quot\;Segoe UI&quot\;\, Helvetica\, Arial\, sans-serif\; font-size: 15px\;" />\n<span style="color: rgb(5\, 5\, 5)\; font-family: &quot\;Segoe UI Historic&quot\;\, &quot\;Segoe UI&quot\;\, Helvetica\, Arial\, sans-serif\;">Raul cuenta con m&aacute\;s de 20 a&ntilde\;os de carrera profesional trabajando en diferentes &aacute\;reas con ARRIS\, ATEME\, Siemens\, NetSpeak\, Cisco Systems y empresas de diversas tecnolog&iacute\;as. En el aspecto acad&eacute\;mico\, Raul cuenta con un en Georgia State University\, USA y Maestr&iacute\;a en Administraci&oacute\;n y Negocios (MBA)\, Maestr&iacute\;a en Ciencias (MSc)\, en la Universidad de Versailles\, Francia\, contando con una especializaci&oacute\;n en Big Data en la Universidad de Emory.</span><br style="color: rgb(5\, 5\, 5)\; font-family: &quot\;Segoe UI Historic&quot\;\, &quot\;Segoe UI&quot\;\, Helvetica\, Arial\, sans-serif\; font-size: 15px\;" />\n<br style="color: rgb(5\, 5\, 5)\; font-family: &quot\;Segoe UI Historic&quot\;\, &quot\;Segoe UI&quot\;\, Helvetica\, Arial\, sans-serif\; font-size: 15px\;" />\n<span style="color: rgb(5\, 5\, 5)\; font-family: &quot\;Segoe UI Historic&quot\;\, &quot\;Segoe UI&quot\;\, Helvetica\, Arial\, sans-serif\;">Tambi&eacute\;n nos acompa&ntilde\;ar&aacute\; Germ&aacute\;n Zamora\, Project Manager de P2K quien expondr&aacute\; tecnolog&iacute\;as en construcci&oacute\;n que usan en sus proyectos y que los ha consolidado como una empresa l&iacute\;der en el sector.</span></span>
LOCATION:ONLINE
UID:e.9342.1544
SEQUENCE:3
DTSTAMP:20260423T081049Z
URL:http://georgiahcaga.memberzone.com/events/details/academia-de-negocios-tecnolog&#237;a-clase-6-1544
END:VEVENT

END:VCALENDAR
