BEGIN:VCALENDAR
VERSION:2.0
PRODID:-//ChamberMaster//Event Calendar 2.0//EN
METHOD:PUBLISH
X-PUBLISHED-TTL:P3D
REFRESH-INTERVAL:P3D
CALSCALE:GREGORIAN
BEGIN:VEVENT
DTSTART:20230517T220000Z
DTEND:20230518T003000Z
X-MICROSOFT-CDO-ALLDAYEVENT:FALSE
SUMMARY:An Evening of Golf & Amigos
DESCRIPTION:We are in Golf Tournament mode!\n\n \n\nSo\, we prepared a special evening exclusively for our active members\, to practice your golf knowledge while having fun with your friends from the GHCA community.\n\n \n\nOur magnificent host\, White Cap\, is taking care of all the details so that you can enjoy the best environment that Top Golf Buford offers you\, learn from the coaches and enjoy delicious food.\n\n \n\nIt s on the house\, you just have to take care of being there!\n\n \n\nSave this day on your calendar and register for free.\n\n \n\nRemember that you must be an active member of the GHCA.\n\n \n\nGet ready for our 2023 GHCA Golf Tournament on June 2nd.
X-ALT-DESC;FMTTYPE=text/html:<div align="justify" style="color: rgb(46\, 47\, 47)\; font-family: Verdana\, Geneva\, sans-serif\; font-size: 14px\; text-align: justify\;"><span style="font-size: 24px\; color: rgb(0\, 0\, 0)\;">We are in Golf Tournament mode!</span></div>\n\n<div align="justify" style="color: rgb(46\, 47\, 47)\; font-family: Verdana\, Geneva\, sans-serif\; font-size: 14px\; text-align: justify\;">&nbsp\;</div>\n\n<div align="justify" style="color: rgb(46\, 47\, 47)\; font-family: Verdana\, Geneva\, sans-serif\; font-size: 14px\; text-align: justify\;"><span style="font-size: 24px\; color: rgb(0\, 0\, 0)\;">So\, we prepared a special evening <strong><em>exclusively for our active members</em></strong>\, to practice your&nbsp\;golf knowledge while having fun with your friends from the GHCA community.</span></div>\n\n<div align="justify" style="color: rgb(46\, 47\, 47)\; font-family: Verdana\, Geneva\, sans-serif\; font-size: 14px\; text-align: justify\;">&nbsp\;</div>\n\n<div align="justify" style="color: rgb(46\, 47\, 47)\; font-family: Verdana\, Geneva\, sans-serif\; font-size: 14px\; text-align: justify\;"><span style="font-size: 24px\; color: rgb(0\, 0\, 0)\;">Our magnificent host\,&nbsp\;</span><span style="font-size: 24px\; color: rgb(0\, 0\, 0)\; font-weight: bold\;">White Cap</span><span style="font-size: 24px\; color: rgb(0\, 0\, 0)\;">\, is taking care of all the details so that you can enjoy the best environment that&nbsp\;</span><span style="font-size: 24px\; color: rgb(0\, 0\, 0)\; font-weight: bold\; font-style: italic\;">Top Golf Buford</span><span style="font-size: 24px\; color: rgb(0\, 0\, 0)\;">&nbsp\;offers you\, learn from the coaches and enjoy delicious food.</span></div>\n\n<div align="justify" style="color: rgb(46\, 47\, 47)\; font-family: Verdana\, Geneva\, sans-serif\; font-size: 14px\; text-align: justify\;">&nbsp\;</div>\n\n<div align="justify" style="color: rgb(46\, 47\, 47)\; font-family: Verdana\, Geneva\, sans-serif\; font-size: 14px\; text-align: justify\;"><span style="font-size: 24px\; color: rgb(0\, 0\, 0)\;">It&acute\;s on the house\, you just have to take care of being there!</span></div>\n\n<div align="justify" style="color: rgb(46\, 47\, 47)\; font-family: Verdana\, Geneva\, sans-serif\; font-size: 14px\; text-align: justify\;">&nbsp\;</div>\n\n<div align="justify" style="color: rgb(46\, 47\, 47)\; font-family: Verdana\, Geneva\, sans-serif\; font-size: 14px\; text-align: justify\;"><span style="font-size: 24px\; color: rgb(0\, 0\, 0)\;">Save this day on your calendar and register for free.</span></div>\n\n<div align="justify" style="color: rgb(46\, 47\, 47)\; font-family: Verdana\, Geneva\, sans-serif\; font-size: 14px\; text-align: justify\;">&nbsp\;</div>\n\n<div align="justify" style="color: rgb(46\, 47\, 47)\; font-family: Verdana\, Geneva\, sans-serif\; font-size: 14px\; text-align: justify\;"><span style="font-size: 24px\; color: rgb(0\, 0\, 0)\; font-weight: bold\;">Remember that you must be an active member of the GHCA.</span></div>\n\n<div align="justify" style="color: rgb(46\, 47\, 47)\; font-family: Verdana\, Geneva\, sans-serif\; font-size: 14px\; text-align: justify\;">&nbsp\;</div>\n\n<div align="justify" style="color: rgb(46\, 47\, 47)\; font-family: Verdana\, Geneva\, sans-serif\; font-size: 14px\; text-align: justify\;"><span style="font-size: 24px\; color: rgb(0\, 0\, 0)\;">Get ready for our 2023 GHCA Golf Tournament on June 2nd.</span></div>\n
LOCATION:Top Golf Buford 2935 Buford Dr\, Buford\, GA 30519
UID:e.9342.1736
SEQUENCE:3
DTSTAMP:20260421T045159Z
URL:http://georgiahcaga.memberzone.com/events/details/an-evening-of-golf-amigos-1736
END:VEVENT

END:VCALENDAR
