BEGIN:VCALENDAR
VERSION:2.0
PRODID:-//ChamberMaster//Event Calendar 2.0//EN
METHOD:PUBLISH
X-PUBLISHED-TTL:P3D
REFRESH-INTERVAL:P3D
CALSCALE:GREGORIAN
BEGIN:VEVENT
DTSTART:20230830T140000Z
DTEND:20230831T190000Z
X-MICROSOFT-CDO-ALLDAYEVENT:FALSE
SUMMARY:Atlanta Build Expo
DESCRIPTION:GHCA will be part of America´s largest regional building & construction show!\n\nAs the largest producer of regional building and construction shows\, Build Expo consistently provides companies the opportunity to meet with 1\,000s of professionals from across the entire industry.\n\nCome and support the GHCA by visiting our booth! Our Membership gets free tickets!\n\n-Over 100 Exhibitors and 1\,000?s of Cutting-edge Products and Services\n\n-Show Specials only Available by Attending\n\n-Meet with 1\,000 s of Atlanta Area Professionals\n\n-Over 30 Complimentary & Accredited Keynotes and Classes
X-ALT-DESC;FMTTYPE=text/html:<span style="font-size:22px\;"><span style="color:#000000\;"><span style="font-family:tahoma\;">GHCA will be part of America´s largest regional building &amp\; construction show!<br>\nAs the largest producer of regional building and construction shows\, <strong><em>Build Expo</em></strong> consistently provides companies the opportunity to meet with 1\,000s of professionals from across the entire industry.<br>\nCome and support the GHCA by visiting our booth! Our Membership gets free tickets!</span><br>\n<span style="font-size:24px\;"><span style="font-family:tahoma\;">-Over 100 Exhibitors and 1\,000?s of Cutting-edge Products and Services<br>\n-Show Specials only Available by Attending<br>\n-Meet with 1\,000 s of Atlanta Area Professionals<br>\n-Over 30 Complimentary &amp\; Accredited Keynotes and Classes</span></span></span></span>
LOCATION:Cobb Galleria Centre (Halls A & B)
UID:e.9342.1741
SEQUENCE:3
DTSTAMP:20260420T192709Z
URL:http://georgiahcaga.memberzone.com/events/details/atlanta-build-expo-1741
END:VEVENT

END:VCALENDAR
