BEGIN:VCALENDAR
VERSION:2.0
PRODID:-//ChamberMaster//Event Calendar 2.0//EN
METHOD:PUBLISH
X-PUBLISHED-TTL:P3D
REFRESH-INTERVAL:P3D
CALSCALE:GREGORIAN
BEGIN:VEVENT
DTSTART:20211020T233000Z
DTEND:20211021T013000Z
X-MICROSOFT-CDO-ALLDAYEVENT:FALSE
SUMMARY:Atlanta United Vs NYCFC - 40% OFF Tickets for GHCA Members
DESCRIPTION:Enjoy and celebrate the Hispanic Heritage Month with the 5-Stripes for the match on 10/20. \n\n\n\nThe Georgia Hispanic Construction Association has secured heavily discounted Exclusive Atlanta United FC Tickets for Members\, Family and Friends! \n\n\n\nUse Promo Code GHCA21 to receive 40% off your regular priced tickets.\n\n\n\nClick the link to get your tickets today
X-ALT-DESC;FMTTYPE=text/html:<span style="caret-color: rgb(0\, 0\, 0)\; color: rgb(0\, 0\, 0)\; font-family: inherit\; font-style: inherit\; font-variant-caps: inherit\; margin: 0px\; padding: 0px\; border: 0px\; font-size: inherit\; font-stretch: inherit\; line-height: inherit\; vertical-align: baseline\;">Enjoy and celebrate the Hispanic Heritage Month with the 5-Stripes for the match on 10/20.&nbsp\;<br />\n<br />\n<strong>The Georgia Hispanic Construction Association has secured heavily discounted Exclusive Atlanta United FC Tickets for Members\, Family and Friends!&nbsp\;</strong><br />\n<br />\nUse Promo Code <u><strong>GHCA21</strong></u> to receive <strong><span style="font-size:14px\;">40%</span></strong> off your regular priced tickets.<br />\n<br />\nClick the <a href="https://am.ticketmaster.com/atlantaunited/GHCA?fbclid=IwAR15uaKmXPa8u2y7tSGNuSuLcm1REZdLMadIuQzFmQVkCq0GbJqHJS6Wda4">link</a> to get your tickets today</span>\n<div class="qF0y9          Igw0E     IwRSH      eGOV_         _4EzTm   pjcA_                                                         aGBdT                                                  " style="caret-color: rgb(0\, 0\, 0)\; color: rgb(0\, 0\, 0)\; font-family: inherit\; font-style: inherit\; font-variant-caps: inherit\; margin: 16px 0px 4px\; padding: 0px\; border: 0px solid rgb(0\, 0\, 0)\; font-size: inherit\; font-stretch: inherit\; line-height: inherit\; vertical-align: baseline\; -webkit-box-align: stretch\; align-items: stretch\; box-sizing: border-box\; display: flex\; -webkit-box-orient: vertical\; -webkit-box-direction: normal\; flex-direction: column\; flex: 0 0 auto\; position: relative\; align-content: stretch\; -webkit-box-pack: start\; justify-content: flex-start\; -webkit-box-flex: 0\;">&nbsp\;</div>\n
LOCATION:
UID:e.9342.1602
SEQUENCE:3
DTSTAMP:20260422T211924Z
URL:http://georgiahcaga.memberzone.com/events/details/atlanta-united-vs-nycfc-40-off-tickets-for-ghca-members-1602
END:VEVENT

END:VCALENDAR
