BEGIN:VCALENDAR
VERSION:2.0
PRODID:-//ChamberMaster//Event Calendar 2.0//EN
METHOD:PUBLISH
X-PUBLISHED-TTL:P3D
REFRESH-INTERVAL:P3D
CALSCALE:GREGORIAN
BEGIN:VEVENT
DTSTART:20201107T220000Z
DTEND:20201108T020000Z
X-MICROSOFT-CDO-ALLDAYEVENT:FALSE
SUMMARY:AWARDS CEREMONY - BusinesScope 2020
DESCRIPTION:The Georgia Hispanic Construction Association cordially invites you to the 9th GHCA 2020 Awards Ceremony to be held on Saturday\, November 7th.\n\n\n\nThis event will be full of matchmaking opportunities\, celebration of accomplishments and LOTS of FUN. We have created a wonderful platform for you to meet industry leaders\, community advocates\, government representatives to recognize the success of Hispanic and other minority contractors in our State and those organizations that advocate the advancement of our community.\n\n\n\nFor more information please contact us at 404-229-8070 or by email:ereyes@georgiahca.org\n\n\n\n* This event has a limited capacity of attendance according to health and safety protocols
X-ALT-DESC;FMTTYPE=text/html:<span style="font-size:22px\;"><span style="color: rgb(5\, 5\, 5)\; font-family: &quot\;Segoe UI Historic&quot\;\, &quot\;Segoe UI&quot\;\, Helvetica\, Arial\, sans-serif\;">The Georgia Hispanic Construction Association cordially invites you to the 9th GHCA 2020 Awards Ceremony to be held on Saturday\, November 7th.</span><br style="color: rgb(5\, 5\, 5)\; font-family: &quot\;Segoe UI Historic&quot\;\, &quot\;Segoe UI&quot\;\, Helvetica\, Arial\, sans-serif\; font-size: 15px\;" />\n<br style="color: rgb(5\, 5\, 5)\; font-family: &quot\;Segoe UI Historic&quot\;\, &quot\;Segoe UI&quot\;\, Helvetica\, Arial\, sans-serif\; font-size: 15px\;" />\n<span style="color: rgb(5\, 5\, 5)\; font-family: &quot\;Segoe UI Historic&quot\;\, &quot\;Segoe UI&quot\;\, Helvetica\, Arial\, sans-serif\;">This event will be full of matchmaking opportunities\, celebration of accomplishments and LOTS of FUN. We have created a wonderful platform for you to meet industry leaders\, community advocates\, government representatives to recognize the success of Hispanic and other minority contractors in our State and those organizations that advocate the advancement of our community.</span><br style="color: rgb(5\, 5\, 5)\; font-family: &quot\;Segoe UI Historic&quot\;\, &quot\;Segoe UI&quot\;\, Helvetica\, Arial\, sans-serif\; font-size: 15px\;" />\n<br style="color: rgb(5\, 5\, 5)\; font-family: &quot\;Segoe UI Historic&quot\;\, &quot\;Segoe UI&quot\;\, Helvetica\, Arial\, sans-serif\; font-size: 15px\;" />\n<span style="color: rgb(5\, 5\, 5)\; font-family: &quot\;Segoe UI Historic&quot\;\, &quot\;Segoe UI&quot\;\, Helvetica\, Arial\, sans-serif\;">For more information please contact us at 404-229-8070 or by email:ereyes@georgiahca.org</span><br style="color: rgb(5\, 5\, 5)\; font-family: &quot\;Segoe UI Historic&quot\;\, &quot\;Segoe UI&quot\;\, Helvetica\, Arial\, sans-serif\; font-size: 15px\;" />\n<br style="color: rgb(5\, 5\, 5)\; font-family: &quot\;Segoe UI Historic&quot\;\, &quot\;Segoe UI&quot\;\, Helvetica\, Arial\, sans-serif\; font-size: 15px\;" />\n<span style="color: rgb(5\, 5\, 5)\; font-family: &quot\;Segoe UI Historic&quot\;\, &quot\;Segoe UI&quot\;\, Helvetica\, Arial\, sans-serif\;">* This event has a limited capacity of attendance according to health and safety protocols</span></span>
LOCATION:Crowne Plaza Atlanta Perimeter at Ravinia 4355 Ashford Dunwoody Rd\, Atlanta\, GA 30346
UID:e.9342.1531
SEQUENCE:3
DTSTAMP:20260424T012750Z
URL:http://georgiahcaga.memberzone.com/events/details/awards-ceremony-businesscope-2020-1531
END:VEVENT

END:VCALENDAR
