BEGIN:VCALENDAR
VERSION:2.0
PRODID:-//ChamberMaster//Event Calendar 2.0//EN
METHOD:PUBLISH
X-PUBLISHED-TTL:P3D
REFRESH-INTERVAL:P3D
CALSCALE:GREGORIAN
BEGIN:VEVENT
DTSTART:20231002T150000Z
DTEND:20231002T230000Z
X-MICROSOFT-CDO-ALLDAYEVENT:FALSE
SUMMARY:BECK ATLANTA / GOLF CLASSIC
DESCRIPTION:We are excited to announce  BECK ATL. Golf Classic\, benefiting CCYA and Beck Foundation\, will be hosted on Monday\, October 2\, 2023 at Bobby Jones Golf Course! New this year - we will be hosting a Beck Bash after the tournament with live music\, networking\, meet and greet with CCYA\, food and drinks! So whether you are interested in playing golf or listening to live music\, we hope to see you there!
X-ALT-DESC;FMTTYPE=text/html:<span style="color: rgb(32\, 32\, 32)\; font-family: Helvetica\, sans-serif\; font-size: 16px\; text-align: center\; background-color: rgb(255\, 255\, 255)\;">We are excited to announce&nbsp\; BECK ATL. Golf Classic\, benefiting CCYA and Beck Foundation\, will be hosted on Monday\, October 2\, 2023 at Bobby Jones Golf Course! New this year - we will be hosting a Beck Bash after the tournament with live music\, networking\, meet and greet with CCYA\, food and drinks! So whether you are interested in playing golf or listening to live music\, we hope to see you there!</span>
LOCATION:Bobby Jones Golf Course in Buckhead
UID:e.9342.1750
SEQUENCE:3
DTSTAMP:20260420T142647Z
URL:http://georgiahcaga.memberzone.com/events/details/beck-atlanta-golf-classic-1750
END:VEVENT

END:VCALENDAR
