BEGIN:VCALENDAR
VERSION:2.0
PRODID:-//ChamberMaster//Event Calendar 2.0//EN
METHOD:PUBLISH
X-PUBLISHED-TTL:P3D
REFRESH-INTERVAL:P3D
CALSCALE:GREGORIAN
BEGIN:VEVENT
DTSTART;VALUE=DATE:20240124
DTEND;VALUE=DATE:20240125
TRANSP:TRANSPARENT
X-MICROSOFT-CDO-ALLDAYEVENT:TRUE
SUMMARY:BECK SCHOOL OF CONSTRUCTION PROGRAM / DUE JANUARY 24th
DESCRIPTION:BECK SCHOOL OF CONSTRUCTION PROGRAM / DUE JANUARY 24th \n\nThe Beck Group is currently looking for candidates to apply to our Beck School of Construction Program for 2024.  This will be the 5th year/class.\n\nApplications are due on January 24th\, and there is a link on the flyer where applicants can fill out the questionnaire. \n\nABOUT THE PROGRAM:\n\nThe Beck Group\, the integrated architecture and construction firm\, is launching its 2024 construction\n\nprogram for Minority Business Enterprises (MBEs).\n\nThe program features a series of nine topics to help MBEs increase their knowledge of the construction\n\nindustry and improve their operations and profitability. Sessions are focused on growing your\n\nbusiness and participants are expected to share their challenges and experiences in the industry.\n\nApply Now:\n\nhttps://forms.office.com/Pages/ResponsePage.aspx?id=WwBQAiFKTUKg5ZgghB8j37Y970w3N0xDkRBpwkeOEUJUQkc4UzhNMDFKSVJFUkVNRzVDWDNMSjJDWC4u
X-ALT-DESC;FMTTYPE=text/html:<strong>BECK SCHOOL OF CONSTRUCTION PROGRAM / DUE JANUARY 24<sup>th</sup> </strong><br />\nThe Beck Group is currently looking for candidates to apply to our Beck School of Construction Program for 2024.&nbsp\; This will be the 5th year/class.<br />\nApplications are due on <strong>January 24th\,</strong> and there is a link on the flyer where applicants can fill out the questionnaire.&nbsp\;<br />\nABOUT THE PROGRAM:<br />\nThe Beck Group\, the integrated architecture and construction firm\, is launching its 2024 construction<br />\nprogram for Minority Business Enterprises (MBEs).<br />\nThe program features a series of nine topics to help MBEs increase their knowledge of the construction<br />\nindustry and improve their operations and profitability. Sessions are focused on growing your<br />\nbusiness and participants are expected to share their challenges and experiences in the industry.<br />\nApply Now:<br />\n<a href="https://forms.office.com/Pages/ResponsePage.aspx?id=WwBQAiFKTUKg5ZgghB8j37Y970w3N0xDkRBpwkeOEUJUQkc4UzhNMDFKSVJFUkVNRzVDWDNMSjJDWC4u">https://forms.office.com/Pages/ResponsePage.aspx?id=WwBQAiFKTUKg5ZgghB8j37Y970w3N0xDkRBpwkeOEUJUQkc4UzhNMDFKSVJFUkVNRzVDWDNMSjJDWC4u</a>
LOCATION:
UID:e.9342.1780
SEQUENCE:3
DTSTAMP:20260420T055011Z
URL:http://georgiahcaga.memberzone.com/events/details/beck-school-of-construction-program-due-january-24th-1780
END:VEVENT

END:VCALENDAR
