BEGIN:VCALENDAR
VERSION:2.0
PRODID:-//ChamberMaster//Event Calendar 2.0//EN
METHOD:PUBLISH
X-PUBLISHED-TTL:P3D
REFRESH-INTERVAL:P3D
CALSCALE:GREGORIAN
BEGIN:VEVENT
DTSTART:20201008T163000Z
DTEND:20201008T190000Z
X-MICROSOFT-CDO-ALLDAYEVENT:FALSE
SUMMARY:Building Bridges: Cobb DOT Small Business Event
DESCRIPTION:Cobb DOT is hosting a virtual lunch 'n learn to help small businesses connect with prime contractors.\n\nJoin  to hear from C.W. Matthews about their company\, subcontracting process\, and current subcontracting opportunities. You will also learn how to stay informed about future subcontracting opportunities.
X-ALT-DESC;FMTTYPE=text/html:<p style="font-size: 16px\; box-sizing: border-box\; margin: 1.5rem 0px\; caret-color: rgb(0\, 0\, 0)\; color: rgb(0\, 0\, 0)\; font-family: Lato\, Verdana\, Tahoma\;"><span style="font-size:20px\;">Cobb DOT is hosting&nbsp\;a&nbsp\;virtual lunch &#39\;n learn to help small businesses connect with prime contractors.</span></p>\n\n<p style="font-size: 16px\; box-sizing: border-box\; margin: 1.5rem 0px\; caret-color: rgb(0\, 0\, 0)\; color: rgb(0\, 0\, 0)\; font-family: Lato\, Verdana\, Tahoma\;"><span style="font-size:20px\;">Join &nbsp\;to hear from C.W. Matthews about their company\, subcontracting process\, and current subcontracting opportunities. You will also learn how to stay informed about future subcontracting opportunities.</span></p>\n
LOCATION:CLICK HERE TO REGISTER
UID:e.9342.1527
SEQUENCE:3
DTSTAMP:20260424T042815Z
URL:http://georgiahcaga.memberzone.com/events/details/building-bridges-cobb-dot-small-business-event-1527
END:VEVENT

END:VCALENDAR
