BEGIN:VCALENDAR
VERSION:2.0
PRODID:-//ChamberMaster//Event Calendar 2.0//EN
METHOD:PUBLISH
X-PUBLISHED-TTL:P3D
REFRESH-INTERVAL:P3D
CALSCALE:GREGORIAN
BEGIN:VEVENT
DTSTART:20231201T230000Z
DTEND:20231202T043000Z
X-MICROSOFT-CDO-ALLDAYEVENT:FALSE
SUMMARY:Building Georgia Awards 2023
DESCRIPTION:Agenda\n\n6:00 - 7:00 p.m.- Registration and Welcome Cocktail\n\n7:15 - 8:30 p.m.- Building Georgia Awards Ceremony/Dinner\n\n8:30 - 11:30 p.m.- Live Music/Casino Night
X-ALT-DESC;FMTTYPE=text/html:<p style="font-size: 16px\; box-sizing: border-box\; margin: 0px 0px 10px\; caret-color: rgb(28\, 28\, 28)\; color: rgb(28\, 28\, 28)\; font-family: Helvetica\, Verdana\, Arial\, sans-serif\;"><span style="font-size:22px\;"><span style="font-family:tahoma\;"><span style="color:#000000\;">Agenda</span></span></span></p>\n\n<div style="color: rgb(34\, 34\, 34)\; font-family: Arial\, Helvetica\, sans-serif\; font-size: small\;"><span style="font-size:22px\;"><span style="font-family:tahoma\;"><span style="color:#000000\;">6:00 - 7:00 p.m.- Registration and Welcome Cocktail</span></span></span></div>\n\n<div style="color: rgb(34\, 34\, 34)\; font-family: Arial\, Helvetica\, sans-serif\; font-size: small\;"><span style="font-size:22px\;"><span style="font-family:tahoma\;"><span style="color:#000000\;">7:15 - 8:30 p.m.- Building Georgia Awards Ceremony/Dinner</span></span></span></div>\n\n<div style="color: rgb(34\, 34\, 34)\; font-family: Arial\, Helvetica\, sans-serif\; font-size: small\;"><span style="font-size:22px\;"><span style="font-family:tahoma\;"><span style="color:#000000\;">8:30 - 11:30 p.m.- Live Music/Casino Night</span></span></span></div>\n
LOCATION:Cobb Galleria Centre 1 Galleria Pkwy SE\, Atlanta\, GA 30339
UID:e.9342.1737
SEQUENCE:3
DTSTAMP:20260420T123646Z
URL:http://georgiahcaga.memberzone.com/events/details/building-georgia-awards-2023-1737
END:VEVENT

END:VCALENDAR
