BEGIN:VCALENDAR
VERSION:2.0
PRODID:-//ChamberMaster//Event Calendar 2.0//EN
METHOD:PUBLISH
X-PUBLISHED-TTL:P3D
REFRESH-INTERVAL:P3D
CALSCALE:GREGORIAN
BEGIN:VEVENT
DTSTART:20200930T150000Z
DTEND:20200930T160000Z
X-MICROSOFT-CDO-ALLDAYEVENT:FALSE
SUMMARY:Building YOUR Business - The Blue Book Network
DESCRIPTION:Be a part of this informative session and learn how\n\nThe Blue Book Network can help you grow your business\, especially during challenging times.\n\n  See firsthand what The Blue Book Network\n\nprovides for commercial subcontractors and\n\nsuppliers in your local area.\n\n  Learn how to build relationships with local GCs\n\nand understand the increasing needs of out-\n\nof-state general contractors building in your backyard right now!\n\n  See the difference between The Blue Book Network vs typical lead services\n\n  Preview some of the upcoming projects in your\n\narea
X-ALT-DESC;FMTTYPE=text/html:<span style="font-size:20px\;">Be a part of this informative&nbsp\;session and learn how<br />\nThe Blue Book Network can help&nbsp\;you grow your business\, especially&nbsp\;during challenging times.<br />\n&bull\; See firsthand what The Blue Book Network<br />\nprovides for commercial subcontractors and<br />\nsuppliers in your local area.<br />\n&bull\; Learn how to build relationships with local GCs<br />\nand understand the increasing needs of out-<br />\nof-state general contractors building in your&nbsp\;backyard right now!<br />\n&bull\; See the difference between The Blue Book Network&nbsp\;vs typical lead services<br />\n&bull\; Preview some of the upcoming projects in your<br />\narea</span><br />\n&nbsp\;
LOCATION:REGISTER HERE
UID:e.9342.1528
SEQUENCE:3
DTSTAMP:20260424T071131Z
URL:http://georgiahcaga.memberzone.com/events/details/building-your-business-the-blue-book-network-1528
END:VEVENT

END:VCALENDAR
