BEGIN:VCALENDAR
VERSION:2.0
PRODID:-//ChamberMaster//Event Calendar 2.0//EN
METHOD:PUBLISH
X-PUBLISHED-TTL:P3D
REFRESH-INTERVAL:P3D
CALSCALE:GREGORIAN
BEGIN:VEVENT
DTSTART:20240410T220000Z
DTEND:20240410T233000Z
X-MICROSOFT-CDO-ALLDAYEVENT:FALSE
SUMMARY:Business Opportunities in Energy Efficiency & Weatherization - Scholarships Available for Green Tech Certifications
DESCRIPTION:Drawdown Georgia\, GHCA\, GHC\, SEEA and State Rep. Marvin Lim invite all members and guests to a FREE informational session with Georgia Power and Southface to learn about all the available training and certifications that would allow you to offer services to homeowners and business owners in the areas of energy efficiency\, sustainability and weatherization.\n\n\n\nAlso\, learn how you can obtain a scholarship to cover for the cost of training and certifications.
X-ALT-DESC;FMTTYPE=text/html:<span style="font-size:22px\;"><span style="font-family:tahoma\;"><span style="color:#000000\;">Drawdown&nbsp\;Georgia\, GHCA\, GHC\, SEEA and State Rep. Marvin Lim invite all members and guests to a FREE informational session with Georgia Power and Southface to learn about all the available training and certifications that would allow you to offer services to homeowners and business owners in the areas of energy efficiency\, sustainability and weatherization.<br />\n<br />\nAlso\, learn how you can obtain a scholarship to cover for the cost of training and certifications.</span></span></span><br />\n&nbsp\;
LOCATION:2750 Buford Hwy NE Atlanta\, GA\, 30324 Auditorium #1 Auditorium #1
UID:e.9342.1823
SEQUENCE:3
DTSTAMP:20260420T004628Z
URL:http://georgiahcaga.memberzone.com/events/details/business-opportunities-in-energy-efficiency-weatherization-scholarships-available-for-green-tech-certifications-1823
END:VEVENT

END:VCALENDAR
