BEGIN:VCALENDAR
VERSION:2.0
PRODID:-//ChamberMaster//Event Calendar 2.0//EN
METHOD:PUBLISH
X-PUBLISHED-TTL:P3D
REFRESH-INTERVAL:P3D
CALSCALE:GREGORIAN
BEGIN:VEVENT
DTSTART:20230629T213000Z
DTEND:20230629T230000Z
X-MICROSOFT-CDO-ALLDAYEVENT:FALSE
SUMMARY:Certificaciones para Pequeños Negocios
DESCRIPTION:Este taller\, desarrollado por el Small Business Development Center de la Universidad de Georgia\, est  dirigido a propietarios de peque as empresas en Georgia interesados en conocer las oportunidades de acceso a contratos con agencias del gobierno federal\, estatal o local\, as  como compa  as privadas. \n\nExisten programas de asistencia de contrataci n y certificaciones de negocios dise ados para abrir nuevas avenidas e incrementar sus ventas utilizando las certificaciones para peque os negocios como una herramienta de mercadeo.\n\nEn este taller\, completamente gratuito y dictado en espa ol\, los asistentes podr n: \n\n	Conocer los diferentes tipos de certificaciones disponibles para peque os negocios\n	Identificar d nde y c mo competir para oportunidades de contratos en el sector p blico y privado\n	Entender c mo pueden ayudar los programas de licitaciones y las certificaciones para peque os negocios a incrementar oportunidades de negocios\n	Aprender a navegar el sistema de licitaciones entendiendo los requisitos y elegibilidad de contrataci n en el sector p blico: federal\, estatal\, local (WOSB\, SDB\, 8(a)\, HUBZone\, VOSB/SDVOSB\, DBE\, certificaciones MBE y WBE)\n	Obtener consejos para aprovechar las certificaciones: algunas consideraciones de desarrollo comercial.
X-ALT-DESC;FMTTYPE=text/html:<span style="font-size:22px\;"><span style="color:#000000\;"><span style="font-family:tahoma\;"><span style="background:white\;">Este taller\, desarrollado por el </span><em><strong><span style="background:white\;">Small Business Development Center </span></strong></em><span style="background:white\;">de la</span><strong><span style="background:white\;"> Universidad de Georgia</span></strong><span style="background:white\;">\, est&aacute\; dirigido a<strong><span style="background:white\;"> </span></strong>propietarios de peque&ntilde\;as empresas en Georgia interesados&nbsp\;en conocer las oportunidades de acceso a contratos con agencias del gobierno federal\, estatal o local\, as&iacute\; como compa&ntilde\;&iacute\;as privadas. </span><br />\n<span style="background:white\;">Existen programas de asistencia de contrataci&oacute\;n y certificaciones de negocios dise&ntilde\;ados para abrir nuevas avenidas e incrementar sus ventas utilizando las certificaciones para peque&ntilde\;os negocios como una herramienta de mercadeo.</span><br />\n<span style="background:white\;">En este taller\, completamente gratuito y dictado en espa&ntilde\;ol\, los asistentes podr&aacute\;n: </span></span></span></span>\n<ul>\n	<li style="text-align:justify\;background:white\;"><span style="font-size:22px\;"><span style="color:#000000\;"><span style="font-family:tahoma\;">Conocer los diferentes tipos de certificaciones disponibles para peque&ntilde\;os negocios</span></span></span></li>\n	<li style="text-align:justify\;background:white\;"><span style="font-size:22px\;"><span style="color:#000000\;"><span style="font-family:tahoma\;">Identificar d&oacute\;nde y c&oacute\;mo competir para oportunidades de contratos en el sector p&uacute\;blico y privado</span></span></span></li>\n	<li style="text-align:justify\;background:white\;"><span style="font-size:22px\;"><span style="color:#000000\;"><span style="font-family:tahoma\;">Entender c&oacute\;mo pueden ayudar los programas de licitaciones y las certificaciones para peque&ntilde\;os negocios a incrementar oportunidades de negocios</span></span></span></li>\n	<li style="text-align:justify\;background:white\;"><span style="font-size:22px\;"><span style="color:#000000\;"><span style="font-family:tahoma\;">Aprender a navegar el sistema de licitaciones entendiendo los requisitos y elegibilidad de contrataci&oacute\;n en el sector p&uacute\;blico: federal\, estatal\, local (WOSB\, SDB\, 8(a)\, HUBZone\, VOSB/SDVOSB\, DBE\, certificaciones MBE y WBE)</span></span></span></li>\n	<li style="text-align:justify\;background:white\;"><span style="font-size:22px\;"><span style="color:#000000\;"><span style="font-family:merriweather sans\;"><span style="font-family:tahoma\;">Obtener consejos para aprovechar las certificaciones: algunas consideraciones de desarrollo comercial</span></span></span></span><span style="color:#777777\;"><span style="font-family:merriweather sans\;">.&nbsp\;</span></span></li>\n</ul>\n
LOCATION:2635 Century Parkway\, Suite 100 Atlanta\, GA\, 30345
UID:e.9342.1745
SEQUENCE:3
DTSTAMP:20260421T023805Z
URL:http://georgiahcaga.memberzone.com/events/details/certificaciones-para-peque&#241;os-negocios-1745
END:VEVENT

END:VCALENDAR
