BEGIN:VCALENDAR
VERSION:2.0
PRODID:-//ChamberMaster//Event Calendar 2.0//EN
METHOD:PUBLISH
X-PUBLISHED-TTL:P3D
REFRESH-INTERVAL:P3D
CALSCALE:GREGORIAN
BEGIN:VEVENT
DTSTART:20200221T213000Z
DTEND:20200222T060000Z
X-MICROSOFT-CDO-ALLDAYEVENT:FALSE
SUMMARY:Blue card- 1A NPDES
DESCRIPTION:Curso de 1 d a para entrenar \n\nContratistas Superintendentes de obra\, Contratistas de movimientos de tierra e instalaci n de tuber as y consultores para instalar\, mantener e inspecci n correctamente las BMP's (mejores pr cticas de gerencia).\n\n\n\nInstructor: Jos  Villegas\, due o de Sol Construction\, quien ha entrenado a m s de 3\,000 personas en sus 20 a os de carrera profesional. \n\n\n\nREQUISITOS: Pasos para certificarte.\n\n	Registrarse en GHCA llamando al 4042298070 o visitando gerogiahca.org\n	Asistir al curso el s bado 22 de febrero con la documentaci n requerida \n	Presentar la solicitud de certificaci n \n	Pasar el examen con una calificaci n m nima de 70%\n\nCUPO LIMITADO! La registraci n ser  aceptada hasta el 20 de febrero.
X-ALT-DESC;FMTTYPE=text/html:<strong>Curso de 1 d&iacute\;a para entrenar&nbsp\;</strong><br />\nContratistas Superintendentes de obra\, Contratistas de movimientos de tierra e instalaci&oacute\;n de tuber&iacute\;as y consultores para instalar\, mantener e inspecci&oacute\;n correctamente las BMP&#39\;s (mejores pr&aacute\;cticas de gerencia).<br />\n<br />\n<span style="font-size:11px\;"><strong>Instructor: <em>Jos&eacute\; Villegas</em></strong>\, due&ntilde\;o de<strong> Sol Construction</strong>\, quien ha entrenado a m&aacute\;s de 3\,000 personas en sus 20 a&ntilde\;os de carrera profesional.&nbsp\;<br />\n<br />\n<u><strong>REQUISITOS: Pasos para certificarte.</strong></u></span>\n<ul>\n	<li>Registrarse en GHCA llamando al 4042298070 o visitando gerogiahca.org</li>\n	<li>Asistir al curso el s&aacute\;bado 22 de febrero con la documentaci&oacute\;n requerida&nbsp\;</li>\n	<li>Presentar la solicitud de certificaci&oacute\;n&nbsp\;</li>\n	<li>Pasar el examen con una calificaci&oacute\;n m&iacute\;nima de 70%</li>\n</ul>\nCUPO LIMITADO! La registraci&oacute\;n ser&aacute\; aceptada hasta el 20 de febrero.
LOCATION:4120 Presidential Parkway\, Atlanta Ga\, 30340
UID:e.9342.1485
SEQUENCE:3
DTSTAMP:20260424T215514Z
URL:http://georgiahcaga.memberzone.com/events/details/certificaci&#243;n-1a-npdes-en-espa&#241;ol-1485
END:VEVENT

END:VCALENDAR
