BEGIN:VCALENDAR
VERSION:2.0
PRODID:-//ChamberMaster//Event Calendar 2.0//EN
METHOD:PUBLISH
X-PUBLISHED-TTL:P3D
REFRESH-INTERVAL:P3D
CALSCALE:GREGORIAN
BEGIN:VEVENT
DTSTART:20210218T010000Z
DTEND:20210218T020000Z
X-MICROSOFT-CDO-ALLDAYEVENT:FALSE
SUMMARY:COMO MEJORAR TU COMUNICACION PARA TRANSFORMAR TU RELACION
DESCRIPTION:COMO MEJORAR TU COMUNICACION PARA TRANSFORMAR TU RELACION\n\n\n\nNuestro trabajo nos ayuda a tolerar lo que no este funcionando en nuestra relaciones\; Sin embargo\, en el fondo sabemos que los triunfos en el trabajo no compensan por tener una relaci n funcionando. \n\nEn este Webinar vamos a cubrir los siguientes temas. \n\n\n	Como descubrir las expectativas ocultas que impactan tu relaci n.\n	Como comunicarse mejor en momentos de enojo.\n	Como obtener un balance emocional entre tu vida laboral y tus relaciones personales.\n\n\n \n\nFecha: Mi rcoles feb 10   17   24\n\nHora: 8pm - 9pm \n\n \n\nHaz clic en el enlace y reserva tu cupo:\n\nhttp://shorturl.at/fjrKP
X-ALT-DESC;FMTTYPE=text/html:<div><span style="font-size:14px\;">COMO MEJORAR TU COMUNICACION PARA TRANSFORMAR TU RELACION</span></div>\n\n<div><br />\n<span style="font-size:14px\;">Nuestro trabajo nos ayuda a tolerar lo que no este funcionando en nuestra relaciones\; Sin embargo\, en el fondo sabemos que los triunfos en el trabajo no compensan por tener una relaci&oacute\;n funcionando.&nbsp\;</span></div>\n\n<p><span style="font-size:14px\;">En este Webinar vamos a cubrir los siguientes temas.&nbsp\;</span></p>\n\n<ul>\n	<li><span style="font-size:14px\;">Como descubrir las expectativas ocultas que impactan tu relaci&oacute\;n.</span></li>\n	<li><span style="font-size:14px\;">Como comunicarse mejor en momentos de enojo.</span></li>\n	<li><span style="font-size:14px\;">Como obtener un balance emocional entre tu vida laboral y tus relaciones personales.</span></li>\n</ul>\n\n<div>&nbsp\;</div>\n\n<div><span style="font-size:14px\;">Fecha: Mi&eacute\;rcoles feb 10 &oacute\; 17 &oacute\; 24</span></div>\n\n<div><span style="font-size:14px\;">Hora: 8pm - 9pm&nbsp\;</span></div>\n\n<div>&nbsp\;</div>\n\n<div><span style="font-size:14px\;">Haz clic en el enlace y reserva tu cupo:</span></div>\n\n<div style="background:initial\; border:initial\; padding:initial\; text-align:initial">http://shorturl.at/fjrKP</div>\n
LOCATION:ON LINE WEBINAR
UID:e.9342.1577
SEQUENCE:3
DTSTAMP:20260423T080850Z
URL:http://georgiahcaga.memberzone.com/events/details/como-mejorar-tu-comunicacion-para-transformar-tu-relacion-1577
END:VEVENT

END:VCALENDAR
