BEGIN:VCALENDAR
VERSION:2.0
PRODID:-//ChamberMaster//Event Calendar 2.0//EN
METHOD:PUBLISH
X-PUBLISHED-TTL:P3D
REFRESH-INTERVAL:P3D
CALSCALE:GREGORIAN
BEGIN:VEVENT
DTSTART:20230422T130000Z
DTEND:20230423T220000Z
X-MICROSOFT-CDO-ALLDAYEVENT:FALSE
SUMMARY:CONFERENCIA LATINOAMERICANA DE TRANSFORMACION
DESCRIPTION:CONFERENCIA LATINOAMERICANA DE TRANSFORMACION\n\nLa Conferencia Latinoamericana de Transformaci n es un evento de 2 d as enfocado en la evoluci n del ser\, donde se capacita a cada participante a elevar su identidad\, romper barreras heredadas y dar herramientas que dan acceso a la innovaci n y al emprendimiento efectivo\; por ende\, un futuro dise ado por ellos mismos.\n\nEn esta cita participar n 11 expertos en su industria quienes se han permitido ser l deres en el mejoramiento y la transformaci n de nuestra sociedad.
X-ALT-DESC;FMTTYPE=text/html:CONFERENCIA LATINOAMERICANA DE TRANSFORMACION<br />\nLa Conferencia Latinoamericana de Transformaci&oacute\;n es un evento de 2 d&iacute\;as enfocado en la evoluci&oacute\;n del ser\, donde se capacita a cada participante a elevar su identidad\, romper barreras heredadas y dar herramientas que dan acceso a la innovaci&oacute\;n y al emprendimiento efectivo\; por ende\, un futuro dise&ntilde\;ado por ellos mismos.<br />\nEn esta cita participar&aacute\;n 11 expertos en su industria quienes se han permitido ser l&iacute\;deres en el mejoramiento y la transformaci&oacute\;n de nuestra sociedad.<br />\n<br />\n&nbsp\;
LOCATION:Gas South Convention Center
UID:e.9342.1731
SEQUENCE:3
DTSTAMP:20260421T060842Z
URL:http://georgiahcaga.memberzone.com/events/details/conferencia-latinoamericana-de-transformacion-1731
END:VEVENT

END:VCALENDAR
