BEGIN:VCALENDAR
VERSION:2.0
PRODID:-//ChamberMaster//Event Calendar 2.0//EN
METHOD:PUBLISH
X-PUBLISHED-TTL:P3D
REFRESH-INTERVAL:P3D
CALSCALE:GREGORIAN
BEGIN:VEVENT
DTSTART:20200828T170000Z
DTEND:20200828T210000Z
X-MICROSOFT-CDO-ALLDAYEVENT:FALSE
SUMMARY:Construction Expo/Matchmaking 2020
DESCRIPTION:The GHCA will proudly host its Annual Construction Expo!\n\n\n\nThis event allows vendors and sponsors to showcase products and services designed for the construction industry.\n\n \n\nTHE 2020 EXPO IS FOCUSED ON:\n\n\n\n- Business Development: Exhibitors can connect with attendees seeking new solutions\, products and partnerships that impact the way they do business.\n\n\n\n-Networking:The Expo presents a unique opportunity to reach a captive audience of Hispanic contractors who desire to learn\, connect and partner with general contractors\, subcontractors as well as private and public entities. Meet the movers and shakers in the construction industry in Georgia.\n\n\n\n\nFOR MORE INFORMATION PLEASE CONTACT US AT\n\nereyes@georgiahca.org \n\n404-229-8070\n\nDon't miss this great event to have great exposure and to foster opportunities to grow!
X-ALT-DESC;FMTTYPE=text/html:<p style="caret-color: rgb(0\, 0\, 0)\; color: rgb(0\, 0\, 0)\; font-family: inherit\; margin: 0px 0px 6px\;"><span style="font-size:18px\;">The GHCA will proudly host its Annual Construction Expo!<br />\n<br />\nThis event allows vendors and sponsors to showcase products and services designed for the construction industry.</span><br />\n&nbsp\;</p>\n\n<p style="caret-color: rgb(0\, 0\, 0)\; color: rgb(0\, 0\, 0)\; font-family: inherit\; margin: 6px 0px\;"><span style="font-size:18px\;">THE 2020 EXPO IS FOCUSED ON:<br />\n<br />\n<strong>- Business Development: </strong>Exhibitors can connect with attendees seeking new solutions\, products and partnerships that impact the way they do business.<br />\n<br />\n<span class="text_exposed_show" style="display: inline\; font-family: inherit\;"><strong>-Networking:</strong>The Expo presents a unique opportunity to reach a captive audience of Hispanic contractors who desire to learn\, connect and partner with general contractors\, subcontractors as well as private and public entities. Meet the movers and shakers in the construction industry in Georgia.</span></span></p>\n\n<div class="text_exposed_show" style="caret-color: rgb(0\, 0\, 0)\; color: rgb(0\, 0\, 0)\; font-family: inherit\; display: inline\;">\n<p style="margin: 0px 0px 6px\; font-family: inherit\;"><br />\n<span style="font-size:18px\;">FOR MORE INFORMATION </span><span style="caret-color: rgb(0\, 0\, 0)\; color: rgb(0\, 0\, 0)\; font-size: 18px\;">PLEASE CONTACT US&nbsp\;</span><span style="font-size:18px\;">AT<br />\nereyes@georgiahca.org&nbsp\;<br />\n404-229-8070</span></p>\n\n<p style="margin: 6px 0px\; font-family: inherit\;"><span style="font-size:18px\;">Don&#39\;t miss this great event to have great exposure and to foster opportunities to grow!</span></p>\n</div>\n\n<div class="_3x-2" data-ft="{&quot\;tn&quot\;:&quot\;H&quot\;}" style="caret-color: rgb(0\, 0\, 0)\; color: rgb(0\, 0\, 0)\; font-family: inherit\;">\n<div data-ft="{&quot\;tn&quot\;:&quot\;H&quot\;}" style="font-family: system-ui\, -apple-system\, BlinkMacSystemFont\, &quot\;.SFNSText-Regular&quot\;\, sans-serif\; caret-color: rgb(28\, 30\, 33)\; color: rgb(28\, 30\, 33)\; font-size: 12px\;">\n<div class="mtm" style="margin-top: 10px\; font-family: inherit\;">\n<div style="font-family: inherit\;">&nbsp\;</div>\n</div>\n</div>\n</div>\n
LOCATION:The Plaza Fiesta Parking Lot 4166 Buford Hwy NE\, Atlanta\, GA 30345
UID:e.9342.1474
SEQUENCE:3
DTSTAMP:20260424T084038Z
URL:http://georgiahcaga.memberzone.com/events/details/construction-expo-matchmaking-2020-georgia-hispanic-construction-association-1474
END:VEVENT

END:VCALENDAR
