BEGIN:VCALENDAR
VERSION:2.0
PRODID:-//ChamberMaster//Event Calendar 2.0//EN
METHOD:PUBLISH
X-PUBLISHED-TTL:P3D
REFRESH-INTERVAL:P3D
CALSCALE:GREGORIAN
BEGIN:VEVENT
DTSTART;VALUE=DATE:20181005
DTEND;VALUE=DATE:20181006
TRANSP:TRANSPARENT
X-MICROSOFT-CDO-ALLDAYEVENT:TRUE
SUMMARY:Construction Summit Panama 2018
DESCRIPTION:Join the GHCA in Panam  this October! Join industry professionals at an event created to foster relationships in a setting that perfectly blends both rich culture and modern development! The #Construction Summit includes:\n\n- Private access tour of the Panam  Canal\n\n- Reception with local business leaders\n\n- Guided tours\, group outing & activities\n\n\nRegister Online now! bit.ly/ghcapanama
X-ALT-DESC;FMTTYPE=text/html:<p style="background-color: rgb(255\, 255\, 255)\; margin: 0px 0px 6px\; font-family: Helvetica\, Arial\, sans-serif\; color: rgb(29\, 33\, 41)\; font-size: 14px\;"><span style="font-size:16px\;"><span style="font-family: tahoma\;">Join the GHCA in Panam&aacute\; this October! Join industry professionals at an event created to foster relationships in a setting that perfectly blends both rich culture and modern development! The&nbsp\;<a class="_58cn" data-ft="{&quot\;tn&quot\;:&quot\;*N&quot\;\,&quot\;type&quot\;:104}" href="https://www.facebook.com/hashtag/construction?source=feed_text" style="color: rgb(54\, 88\, 153)\; cursor: pointer\; text-decoration-line: none\; font-family: inherit\;"><span class="_5afx" style="direction: ltr\; unicode-bidi: isolate\;"><span aria-label="hashtag" class="_58cl _5afz" style="unicode-bidi: isolate\;">#</span><span class="_58cm">Construction</span></span></a>&nbsp\;Summit includes:</span></span></p>\n\n<p style="background-color: rgb(255\, 255\, 255)\; margin: 6px 0px\; font-family: Helvetica\, Arial\, sans-serif\; color: rgb(29\, 33\, 41)\; font-size: 14px\;"><span style="font-size:16px\;"><span style="font-family: tahoma\;">- Private access tour of the Panam&aacute\; Canal<br />\n- Reception with local business leaders<br />\n- Guided tours\, group outing &amp\; activities</span></span></p>\n\n<div class="text_exposed_show" style="background-color: rgb(255\, 255\, 255)\; display: inline\; font-family: Helvetica\, Arial\, sans-serif\; color: rgb(29\, 33\, 41)\; font-size: 14px\;">\n<p style="margin: 0px 0px 6px\; font-family: inherit\;"><span style="font-size:16px\;"><span style="font-family: tahoma\;">Register Online now!&nbsp\;<a data-ft="{&quot\;tn&quot\;:&quot\;-U&quot\;}" data-lynx-mode="asynclazy" data-lynx-uri="https://l.facebook.com/l.php?u=https%3A%2F%2Fbit.ly%2Fghcapanama&amp\;h=AT32yvhFqN0GYYAMI9NMzOWfZPRWIKUwOk3DRzNO-vN1MpAVp0xarUA0S2jL0YpBzYwIcvAE6OJpwybgB4DTTostW5mgMqfsjp57znFj-_SPkKLOuIneAguhlJIOWUkTm-ePffaz5PAXkobc6chmyCA9nf080hm9Q7UvyA" href="https://bit.ly/ghcapanama" rel="noopener nofollow" style="color: rgb(54\, 88\, 153)\; cursor: pointer\; outline: none\;" target="_blank">bit.ly/ghcapanama</a></span></span></p>\n\n<div>&nbsp\;</div>\n</div>\n\n<div class="text_exposed_show" style="background-color: rgb(255\, 255\, 255)\; display: inline\; font-family: Helvetica\, Arial\, sans-serif\; color: rgb(29\, 33\, 41)\; font-size: 14px\;">&nbsp\;</div>\n
LOCATION:
UID:e.9342.1337
SEQUENCE:3
DTSTAMP:20260426T030323Z
URL:http://georgiahcaga.memberzone.com/events/details/construction-summit-panama-2018-1337
END:VEVENT

END:VCALENDAR
