BEGIN:VCALENDAR
VERSION:2.0
PRODID:-//ChamberMaster//Event Calendar 2.0//EN
METHOD:PUBLISH
X-PUBLISHED-TTL:P3D
REFRESH-INTERVAL:P3D
CALSCALE:GREGORIAN
BEGIN:VEVENT
DTSTART:20230824T210000Z
DTEND:20230825T010000Z
X-MICROSOFT-CDO-ALLDAYEVENT:FALSE
SUMMARY:Construction Trends 2024: Maximize. Design. Inspire.
DESCRIPTION:A Forum & Expo designed to allow participants to discover the best options in today's competitive construction market in terms of sustainable construction practices\, innovative materials\, space optimization\, and cost-effective solutions. \n\n\n\nYour goal (and ours) is to help your business find the best balance of cost\, efficiency\, maintainability\, and deliver the best response to challenges such as rising costs\, major disruptions\, and budgetary overruns and this is the right place to be!
X-ALT-DESC;FMTTYPE=text/html:<p style="text-align: start\; margin: 0in 0in 7.5pt\;"><span style="color: rgb(0\, 0\, 0)\; font-family: tahoma\; font-size: 22px\; background-image: initial\; background-position: initial\; background-size: initial\; background-repeat: initial\; background-attachment: initial\; background-origin: initial\; background-clip: initial\;">A&nbsp\;<em><b>Forum &amp\; Expo&nbsp\;</b></em>designed to allow participants to discover&nbsp\;</span><span style="text-align: start\;"><font color="#000000" face="tahoma"><span style="font-size: 22px\;">the best options in today&#39\;s&nbsp\;competitive construction market in terms of sustainable construction practices\, innovative materials\, space optimization\, and cost-effective solutions. </span></font></span><span style="text-align: start\;"><o:p></o:p></span></p>\n\n<p style="margin-top:0in\;margin-right:0in\;margin-bottom:7.5pt\;margin-left:0in\;\ntext-align:justify"><br />\n<span style="font-size:22px\;"><span style="font-family:tahoma\;"><span style="color:#000000\;"><span style="background-image: initial\; background-position: initial\; background-size: initial\; background-repeat: initial\; background-attachment: initial\; background-origin: initial\; background-clip: initial\;">Your goal&nbsp\;</span><em style="text-align: start\;">(and ours)&nbsp\;</em><span style="text-align: start\;">is to help your business find&nbsp\;</span><span style="text-align: start\;">the best balance of cost\, efficiency\, maintainability\, and deliver the best response to</span><span style="text-align: start\;">&nbsp\;challenges such as rising costs\, major disruptions\, and&nbsp\;</span><span style="text-align: start\;">budgetary overruns and this is the right place to be!</span><br style="text-align: start\;" />\n<!--[if !supportLineBreakNewLine]--></span></span></span><br />\n<span style="font-size: 18pt\; font-family: Tahoma\, sans-serif\;"><!--[endif]--><span style="background-image: initial\; background-position: initial\; background-size: initial\; background-repeat: initial\; background-attachment: initial\; background-origin: initial\; background-clip: initial\;"><o:p></o:p></span></span></p>\n\n<p style="margin-top:0in\;margin-right:0in\;margin-bottom:7.5pt\;margin-left:0in\;\ntext-align:justify">&nbsp\;</p>\n
LOCATION:City Springs 1 Galambos Way\, Sandy Springs\, GA\, 30328
UID:e.9342.1744
SEQUENCE:3
DTSTAMP:20260420T210649Z
URL:http://georgiahcaga.memberzone.com/events/details/construction-trends-2024-maximize-design-inspire-1744
END:VEVENT

END:VCALENDAR
