BEGIN:VCALENDAR
VERSION:2.0
PRODID:-//ChamberMaster//Event Calendar 2.0//EN
METHOD:PUBLISH
X-PUBLISHED-TTL:P3D
REFRESH-INTERVAL:P3D
CALSCALE:GREGORIAN
BEGIN:VEVENT
DTSTART;VALUE=DATE:20200630
DTEND;VALUE=DATE:20200701
TRANSP:TRANSPARENT
X-MICROSOFT-CDO-ALLDAYEVENT:TRUE
SUMMARY:Contratos en Época de Covid-19
DESCRIPTION:Los invitamos a disfrutar de una entrevista en la que conversamos acerca de los contratos en  poca de COVID-19.\n\n\n\nQu  se debe tener en cuenta para realizar un contrato en estos momentos?\n\nEs posible renegociar los contratos?\n\nC mo se ha visto afectada la industria de la construcci n?\n\nGracias a MG Al Aire Radio. por brindarnos este espacio.\n\n\n\nHaga Click aqu  k para ver la entrevista completa:
X-ALT-DESC;FMTTYPE=text/html:<p style="margin: 0px 0px 6px\; font-family: system-ui\, -apple-system\, BlinkMacSystemFont\, &quot\;.SFNSText-Regular&quot\;\, sans-serif\; caret-color: rgb(28\, 30\, 33)\; color: rgb(28\, 30\, 33)\; font-size: 14px\;"><span style="font-size:18px\;"><span style="font-family:tahoma\;">Los invitamos a disfrutar de&nbsp\;una entrevista en la que conversamos acerca de los contratos en &eacute\;poca de COVID-19.<br />\n<br />\nQu&eacute\; se debe tener en cuenta para realizar un contrato en estos momentos?<br />\nEs posible renegociar los contratos?<br />\nC&oacute\;mo se ha visto afectada la industria de la construcci&oacute\;n?</span></span></p>\n\n<p style="margin: 6px 0px 0px\; display: inline\; font-family: system-ui\, -apple-system\, BlinkMacSystemFont\, &quot\;.SFNSText-Regular&quot\;\, sans-serif\; caret-color: rgb(28\, 30\, 33)\; color: rgb(28\, 30\, 33)\; font-size: 14px\;"><span style="font-size:18px\;"><span style="font-family:tahoma\;">Gracias a&nbsp\;<a class="profileLink" data-hovercard="/ajax/hovercard/page.php?id=333016773849847&amp\;extragetparams=%7B%22__tn__%22%3A%22%2CdK-R-R%22%2C%22eid%22%3A%22ARC7RatTjDZKTsZieJcHMp2azgAD5f8mnUwrfJ2CQmsiYchZ9fSXSincKC0ko2Osv74Aq9kqBD2z8gIy%22%2C%22fref%22%3A%22mentions%22%7D" data-hovercard-prefer-more-content-show="1" href="https://www.facebook.com/mgalaireradio/?__tn__=K-R&amp\;eid=ARC7RatTjDZKTsZieJcHMp2azgAD5f8mnUwrfJ2CQmsiYchZ9fSXSincKC0ko2Osv74Aq9kqBD2z8gIy&amp\;fref=mentions&amp\;__xts__%5B0%5D=68.ARDxSPo22yK59ctZ_gPePhYTLbl9M7OG89J7RVZew_NLRGzgIqwpXvn7ySjRxLmt4rvIS2wx6AC7UTqx5NIL8ItJqilU9m4Sbnn-1S2VUX0ySTuxHodfC8K7sm8lCNwGzYA_J8GTt_0t7i1VIYVrHFk18fr3kCNCHZNrlGoepSfUfLAIU50HXfiPx8IExiovBk59LNYz3252IhcpOdAU72q_gxCd7daOri49Ie2zNbyuHQ9i3SJAjrmWFJSJFB7D88B5-YruQV5ztc4I_8I1xJTt7deqQBLsb5TU01lB1c1GlIsxgx3THxcPzOXMTK7txVPP0Nvbvg8N-qxFpV5SHJR8BA" style="color: rgb(56\, 88\, 152)\; cursor: pointer\; text-decoration: none\; font-family: inherit\;">MG Al Aire Radio.</a>&nbsp\;por brindarnos este espacio.<br />\n<br />\nHaga <a href="https://www.facebook.com/mgalaireradio/videos/721716341994888/UzpfSTE1NzQzODY2NDM4ODA1MToxOTk3NDMxMDI3MDU1NDYz/?epa=SEARCH_BOX">Click aqu&iacute\;</a>&nbsp\;k para ver la entrevista completa:&nbsp\;</span></span></p>\n
LOCATION:
UID:e.9342.1520
SEQUENCE:3
DTSTAMP:20260424T114620Z
URL:http://georgiahcaga.memberzone.com/events/details/contratos-en-&#233;poca-de-covid-19-1520
END:VEVENT

END:VCALENDAR
