BEGIN:VCALENDAR
VERSION:2.0
PRODID:-//ChamberMaster//Event Calendar 2.0//EN
METHOD:PUBLISH
X-PUBLISHED-TTL:P3D
REFRESH-INTERVAL:P3D
CALSCALE:GREGORIAN
BEGIN:VEVENT
DTSTART:20211116T210000Z
DTEND:20211116T230000Z
X-MICROSOFT-CDO-ALLDAYEVENT:FALSE
SUMMARY:Control de Proyectos: Planning Your Profit
DESCRIPTION:Nuevamente traemos a nuestros miembros una de las sesiones mas populares y de mayor demanda. Control de Proyectos con Libby Goico. \n\n\n\nEste 16 de noviembre acomp  anos a la sesi n "Planning Your Profit" Cotiza tu proyecto para ejecutarlo seg n el presupuesto.\n\n\n\nPowered by Argos \n\n\n\n Session Virtual
X-ALT-DESC;FMTTYPE=text/html:<font color="#000000" face="Arial"><span style="font-size: 20px\; white-space: pre-wrap\;">Nuevamente traemos a nuestros miembros una de las sesiones mas populares y de mayor demanda. Control de Proyectos con Libby Goico. </span><br />\n<br />\n<span style="font-size: 20px\; white-space: pre-wrap\;">Este 16 de noviembre acomp&aacute\;&ntilde\;anos a la sesi&oacute\;n &quot\;Planning Your Profit&quot\; Cotiza tu proyecto para ejecutarlo seg&uacute\;n el presupuesto.<br />\n<br />\n<a href="https://www.argos-us.com">Powered by Argos </a></span><br />\n<br />\n<span style="font-size: 20px\; white-space: pre-wrap\;">&#8203\;Session Virtual</span></font>
LOCATION:
UID:e.9342.1566
SEQUENCE:3
DTSTAMP:20260422T193519Z
URL:http://georgiahcaga.memberzone.com/events/details/control-de-proyectos-planning-your-profit-1566
END:VEVENT

END:VCALENDAR
