BEGIN:VCALENDAR
VERSION:2.0
PRODID:-//ChamberMaster//Event Calendar 2.0//EN
METHOD:PUBLISH
X-PUBLISHED-TTL:P3D
REFRESH-INTERVAL:P3D
CALSCALE:GREGORIAN
BEGIN:VEVENT
DTSTART:20200604T140000Z
DTEND:20200604T153000Z
X-MICROSOFT-CDO-ALLDAYEVENT:FALSE
SUMMARY:Cómo aplicar y solicitar el perdón del préstamo PPP - Webinar
DESCRIPTION:Importante informaci n para nuestra comunidad! \n\n \n\nTodav a se puede aplicar para el PPP (Paycheck Protection Plan)! Si quiere conocer los detalles acerca del proceso de aplicaci n y perd n de este pr stamo reg strese ahora https://bit.ly/3dmbd8I\n\n \n\nExcelente seminario organizado por UGA SBDC in DeKalb\, en colaboraci n con Access to Capital for Entrepreneurs\, Georgia Hispanic Chamber of Commerce\, Georgia Hispanic Construction Association\, LACC Georgia - Latin American Chamber of Commerce of Georgia\, Latin American Association - Asociaci n Latinoamericana & UP Advertising.
X-ALT-DESC;FMTTYPE=text/html:<div style="caret-color: rgb(46\, 47\, 47)\; color: rgb(46\, 47\, 47)\; font-family: Verdana\, Geneva\, sans-serif\; font-size: 18px\; white-space: pre-wrap\;"><span style="font-size: 20px\; font-family: Tahoma\, Geneva\, sans-serif\; color: rgb(34\, 34\, 34)\;">Importante informaci&oacute\;n para nuestra comunidad! </span></div>\n\n<div style="caret-color: rgb(46\, 47\, 47)\; color: rgb(46\, 47\, 47)\; font-family: Verdana\, Geneva\, sans-serif\; font-size: 18px\; white-space: pre-wrap\;">&nbsp\;</div>\n\n<div style="caret-color: rgb(46\, 47\, 47)\; color: rgb(46\, 47\, 47)\; font-family: Verdana\, Geneva\, sans-serif\; font-size: 18px\; white-space: pre-wrap\;"><span style="font-size: 20px\; font-family: Tahoma\, Geneva\, sans-serif\; color: rgb(34\, 34\, 34)\;">Todav&iacute\;a se puede aplicar para el PPP (Paycheck Protection Plan)! Si quiere conocer los detalles acerca del proceso de aplicaci&oacute\;n y perd&oacute\;n de este pr&eacute\;stamo reg&iacute\;strese ahora&nbsp\;</span><a href="https://bit.ly/3dmbd8I" rel="noopener noreferrer" style="color: rgb(17\, 85\, 204)\; font-family: Tahoma\, Geneva\, sans-serif\; font-size: 20px\;" target="_blank">https://bit.ly/3dmbd8I</a></div>\n\n<div style="caret-color: rgb(46\, 47\, 47)\; color: rgb(46\, 47\, 47)\; font-family: Verdana\, Geneva\, sans-serif\; font-size: 18px\; white-space: pre-wrap\;">&nbsp\;</div>\n\n<div style="caret-color: rgb(46\, 47\, 47)\; color: rgb(46\, 47\, 47)\; font-family: Verdana\, Geneva\, sans-serif\; font-size: 18px\; white-space: pre-wrap\;"><span style="font-family: Tahoma\, Geneva\, sans-serif\; color: rgb(34\, 34\, 34)\; font-size: 20px\;">Excelente seminario organizado por UGA SBDC in DeKalb\, en colaboraci&oacute\;n con Access to Capital for Entrepreneurs\, Georgia Hispanic Chamber of Commerce\, Georgia Hispanic Construction Association\, LACC Georgia - Latin American Chamber of Commerce of Georgia\, Latin American Association - Asociaci&oacute\;n Latinoamericana &amp\; UP Advertising.</span></div>\n
LOCATION:REGISTER HERE https://bit.ly/3dmbd8I
UID:e.9342.1517
SEQUENCE:3
DTSTAMP:20260424T133719Z
URL:http://georgiahcaga.memberzone.com/events/details/c&#243;mo-aplicar-y-solicitar-el-perd&#243;n-del-pr&#233;stamo-ppp-webinar-1517
END:VEVENT

END:VCALENDAR
