BEGIN:VCALENDAR
VERSION:2.0
PRODID:-//ChamberMaster//Event Calendar 2.0//EN
METHOD:PUBLISH
X-PUBLISHED-TTL:P3D
REFRESH-INTERVAL:P3D
CALSCALE:GREGORIAN
BEGIN:VEVENT
DTSTART:20200229T150000Z
DTEND:20200229T180000Z
X-MICROSOFT-CDO-ALLDAYEVENT:FALSE
SUMMARY:DBE Diversity Workshop Outreach
DESCRIPTION:DBE Certification Construction Industry Focused Diversity Outreach Workshop\n\n\n\nLearn the basics of the certification process for Disadvantaged Business Enterprise (DBE). and Minority Business Enterprise (MBE)
X-ALT-DESC;FMTTYPE=text/html:<h1 class="listing-hero-title" data-automation="listing-title" style="margin: 0px auto\; padding: 0px 0px 2px\; font-size: 20px\; display: -webkit-box\; -webkit-line-clamp: 4\; -webkit-box-orient: vertical\; overflow: hidden\; text-overflow: ellipsis\; color: rgb(30\, 10\, 60)\; font-weight: 600\; line-height: 21px\; letter-spacing: 0.5px\; word-break: break-word\; font-family: &quot\;Neue Plak&quot\;\, -apple-system\, BlinkMacSystemFont\, Roboto\, &quot\;Helvetica Neue&quot\;\, Helvetica\, Tahoma\, Arial\, sans-serif\; background-color: rgba(255\, 255\, 255\, 0.9)\;"><span style="font-size:14px\;">DBE Certification Construction Industry Focused Diversity Outreach Workshop</span><br />\n<br />\n<span style="font-size:12px\;">Learn the basics of the certification process for Disadvantaged Business Enterprise (DBE). and Minority Business Enterprise (MBE)</span></h1>\n
LOCATION:Atlanta Technical College 1560 Metropolitan Parkway Southwest Dennard Conference Center Atlanta\, GA 30310
UID:e.9342.1495
SEQUENCE:3
DTSTAMP:20260424T215354Z
URL:http://georgiahcaga.memberzone.com/events/details/dbe-diversity-workshop-outreach-1495
END:VEVENT

END:VCALENDAR
