BEGIN:VCALENDAR
VERSION:2.0
PRODID:-//ChamberMaster//Event Calendar 2.0//EN
METHOD:PUBLISH
X-PUBLISHED-TTL:P3D
REFRESH-INTERVAL:P3D
CALSCALE:GREGORIAN
BEGIN:VEVENT
DTSTART:20190619T220000Z
DTEND:20190620T000000Z
X-MICROSOFT-CDO-ALLDAYEVENT:FALSE
SUMMARY:Diversity Supplier Meeting JP Morgan
DESCRIPTION:JPMorgan Chase is expanding its branch network in Atlanta area. \n\n\n\nGreat opportunity provided by JPMorgan Chase for Minority owned and small businesses.
X-ALT-DESC;FMTTYPE=text/html:<font color="#1c1e21"><span style="font-size: 10.5pt\;">JPMorgan Chase is&nbsp\;</span><span style="font-size: 14px\;">expanding its&nbsp\;branch network in Atlanta area.&nbsp\;</span></font><br />\n<br />\n<font color="#1c1e21"><span style="font-size: 10.5pt\;">Great opportunity provided by JPMorgan Chase for Minority owned and small businesses.&nbsp\;</span></font><br />\n<br />\n&nbsp\;
LOCATION:Chase Bank 4453 Ashford Dunwoody Rd Dunwoody\, GA 30346
UID:e.9342.1382
SEQUENCE:3
DTSTAMP:20260425T113315Z
URL:http://georgiahcaga.memberzone.com/events/details/diversity-supplier-meeting-jp-morgan-1382
END:VEVENT

END:VCALENDAR
