BEGIN:VCALENDAR
VERSION:2.0
PRODID:-//ChamberMaster//Event Calendar 2.0//EN
METHOD:PUBLISH
X-PUBLISHED-TTL:P3D
REFRESH-INTERVAL:P3D
CALSCALE:GREGORIAN
BEGIN:VEVENT
DTSTART:20240319T120000Z
DTEND:20240319T170000Z
X-MICROSOFT-CDO-ALLDAYEVENT:FALSE
SUMMARY:Doing Business with GSFIC & BOR
DESCRIPTION:
X-ALT-DESC;FMTTYPE=text/html:
LOCATION:"Sloppy" Floyd Towers West Tower 20th Floor 200 Piedmont Ave Atlanta\, GA\, 30334
UID:e.9342.1825
SEQUENCE:3
DTSTAMP:20260420T022912Z
URL:http://georgiahcaga.memberzone.com/events/details/doing-business-with-gsfic-bor-1825
END:VEVENT

END:VCALENDAR
