BEGIN:VCALENDAR
VERSION:2.0
PRODID:-//ChamberMaster//Event Calendar 2.0//EN
METHOD:PUBLISH
X-PUBLISHED-TTL:P3D
REFRESH-INTERVAL:P3D
CALSCALE:GREGORIAN
BEGIN:VEVENT
DTSTART:20200529T140000Z
DTEND:20200529T160000Z
X-MICROSOFT-CDO-ALLDAYEVENT:FALSE
SUMMARY:Doing Business with Gwinnett County Government: DBE Edition
DESCRIPTION:You're invited to join Gwinnett County Government on discussing the County's Disadvantaged Business Enterprise (DBE) Triennial Plan. This workshop will focus on the Department of Transportation Transit and Airport divisions. In addition\, the program will feature various county divisions who will provide information\, resources\, and upcoming business outreach opportunities. \n\n\n\nHost: Gwinnett County Board of Commissioners\, Office of Community Outreach\n\n\n\nDate and Time: Friday\, May 29\, 2020 10:00 AM   12:00 PM\n\n\n\nLocation: Via WebEx ( link will be sent to registrants 24 hrs. before event)\n\n\n\nClick HERE register and view the event agenda. Please share it with your business network!
X-ALT-DESC;FMTTYPE=text/html:<span style="font-size:20px\;"><strong><span style="color:black\;"><span style="font-family:arial\,sans-serif\;">You&rsquo\;re invited to join Gwinnett County Government on discussing the County&rsquo\;s Disadvantaged Business Enterprise (DBE) Triennial Plan. This workshop will focus on the Department of Transportation Transit and Airport divisions. In addition\, the program will feature various county&nbsp\;divisions who will provide information\, resources\, and upcoming business outreach opportunities.&nbsp\;</span></span></strong><br />\n<br />\n<span style="color:black\;"><span style="font-family:arial\,sans-serif\;">Host: Gwinnett County Board of Commissioners\, Office of Community Outreach</span></span><br />\n<br />\n<span style="background-color:yellow\;"><span style="color:black\;"><span style="font-family:arial\,sans-serif\;">Date and Time: Friday\, May 29\, 2020 10:00 AM &ndash\; 12:00 PM</span></span></span><br />\n<br />\n<span style="color:black\;"><span style="font-family:arial\,sans-serif\;">Location: Via WebEx ( link will be sent to registrants 24 hrs. before event)</span></span><br />\n<br />\n<strong><span style="font-family:arial\,sans-serif\;">Click&nbsp\;<a data-saferedirecturl="https://www.google.com/url?q=https://2020gwinnettdbeoutreach.eventbrite.com/&amp\;source=gmail&amp\;ust=1590079111270000&amp\;usg=AFQjCNFKF23pHqGwsk-9mHFvcvnwN5Wt5w" href="https://2020gwinnettdbeoutreach.eventbrite.com/" style="color:rgb(17\, 85\, 204)\;" target="_blank">HERE</a>&nbsp\;register and view the event agenda. Please share it with your business network!</span></strong><br />\n&nbsp\;</span>
LOCATION:
UID:e.9342.1514
SEQUENCE:3
DTSTAMP:20260424T151403Z
URL:http://georgiahcaga.memberzone.com/events/details/doing-business-with-gwinnett-county-government-dbe-edition-05-29-2020-1514
END:VEVENT

END:VCALENDAR
