BEGIN:VCALENDAR
VERSION:2.0
PRODID:-//ChamberMaster//Event Calendar 2.0//EN
METHOD:PUBLISH
X-PUBLISHED-TTL:P3D
REFRESH-INTERVAL:P3D
CALSCALE:GREGORIAN
BEGIN:VEVENT
DTSTART:20200424T154500Z
DTEND:20200424T170000Z
X-MICROSOFT-CDO-ALLDAYEVENT:FALSE
SUMMARY:Economic Overview: Construction During COVID-19 - Webinar
DESCRIPTION:Economic Overview: Construction During COVID-19\n\n \n\nDESCRIPTION:  Agenda\n\n \n\nIntroductions: \n\nJohn H. Martinez-D.\, Chairman\, National Hispanic Construction Association \n\n\n\nKen Simonson\, Chief Economist\, Associated General Contractors of America\n\n\n\nState of the Construction Industry\n\n\n\nWhat to Expect During the Pandemic - COVID-19\n\n\n\nSBA Update\n\n\n\nLocal Assistance: City\, County\, State\, and Federal\n\n\n\nOutlook for future legislation and the path to recovery for different construction segments.\n\n\n\nREGISTER HERE
X-ALT-DESC;FMTTYPE=text/html:<div style="caret-color: rgb(0\, 0\, 0)\; color: rgb(0\, 0\, 0)\;"><span class="im" style="color: rgb(80\, 0\, 80)\;"><strong><span style="font-size:18px\;">Economic Overview: Construction During COVID-19</span></strong><br />\n&nbsp\;</span></div>\n\n<div style="font-family: Arial\; font-size: 13.333333015441895px\;"><span class="im" style="color: rgb(80\, 0\, 80)\;"><span style="font-size: 16px\;"><strong><label>DESCRIPTION: &nbsp\;</label></strong>Agenda</span></span>\n\n<div><span class="im" style="color: rgb(80\, 0\, 80)\;"><span style="font-size: 16px\;">&nbsp\;<br />\nIntroductions:&nbsp\;<br />\nJohn H. Martinez-D.\, Chairman\, National Hispanic Construction Association&nbsp\;<br />\n<br />\nKen Simonson\, Chief Economist\, Associated General Contractors of America<br />\n<br />\nState of the Construction Industry<br />\n<br />\nWhat to Expect During the Pandemic - COVID-19<br />\n<br />\nSBA Update<br />\n<br />\nLocal Assistance: City\, County\, State\, and Federal<br />\n<br />\nOutlook for future legislation and the path to recovery for different construction segments.<br />\n<br />\n<a href="https://zoom.us/webinar/register/WN_Z4mTYtRcQkSzZHWnop6Wdg">REGISTER HERE&nbsp\;</a></span></span></div>\n</div>\n
LOCATION:WEBINAR
UID:e.9342.1508
SEQUENCE:3
DTSTAMP:20260424T162910Z
URL:http://georgiahcaga.memberzone.com/events/details/economic-overview-construction-during-covid-19-webinar-1508
END:VEVENT

END:VCALENDAR
