BEGIN:VCALENDAR
VERSION:2.0
PRODID:-//ChamberMaster//Event Calendar 2.0//EN
METHOD:PUBLISH
X-PUBLISHED-TTL:P3D
REFRESH-INTERVAL:P3D
CALSCALE:GREGORIAN
BEGIN:VEVENT
DTSTART:20210422T203000Z
DTEND:20210422T220000Z
X-MICROSOFT-CDO-ALLDAYEVENT:FALSE
SUMMARY:Educación Financiera para Latinas en Construcción
DESCRIPTION:Si usted tiene dudas o quiere aprender m s acerca de los siguientes temas\, lo invitamos a participar en la sesi n de Educaci n Financiera:\n\n\n\n Cu les son los factores a tener en cuenta para que una compa  a decida que est  en el momento de crecer?\n\n\n\n Cu l es la importancia y c mo se pueden manejar los cr ditos\, deudas y ahorros?\n\n\n\n Cu les son los mejores h bitos financieros en el Hogar?\n\n\n\n Cu l es la importancia de tener un presupuesto?\n\n\n\n C mo es el proceso de solicitar cr dito a un banco\, y si el banco no te presta\, hay otras formas de financiamiento?\n\n\n\nAcomp  enos el Jueves\, 22 de Abril de 4:30 a 6 pm. El panelista ser  Ivan D az\, Vicepresidente de Peque os Negocios de Bank of America. \n \n\nIvan D az\, es un profesional cuya carrera bancaria comenz  hace alrededor de 15 a os. Ha trabajado en diversas  reas\, como Banquero de finanzas personales\, Especialista en peque os negocios\, banquero de inversiones\, gerente de un centro financiero y VP Banquero comercial.\n\n\n\nIvan est  muy orgulloso de poder trabajar con due os de peque os negocios para ayudarles a cumplir sus metas financieras y al mismo tiempo contribuir al desarrollo de la econom a de la comunidad.
X-ALT-DESC;FMTTYPE=text/html:<span style="font-size:18px\;"><span style="font-family:tahoma\;">Si usted tiene dudas o quiere aprender m&aacute\;s acerca de los siguientes temas\, lo invitamos a participar en la sesi&oacute\;n de Educaci&oacute\;n Financiera:<br />\n<br />\n&iquest\;Cu&aacute\;les son los factores a tener en cuenta para que una compa&ntilde\;&iacute\;a decida que est&aacute\; en el momento de crecer?<br />\n<br />\n&iquest\;Cu&aacute\;l es la importancia y c&oacute\;mo se pueden manejar los cr&eacute\;ditos\, deudas y ahorros?<br />\n<br />\n&iquest\;Cu&aacute\;les son los mejores h&aacute\;bitos financieros en el Hogar?<br />\n<br />\n&iquest\;Cu&aacute\;l es la importancia de tener un presupuesto?<br />\n<br />\n&iquest\;C&oacute\;mo es el proceso de solicitar cr&eacute\;dito a un banco\, y si el banco no te presta\, hay otras formas de financiamiento?<br />\n<br />\nAcomp&aacute\;&ntilde\;enos el Jueves\, 22 de Abril de 4:30 a 6 pm. El panelista ser&aacute\; Ivan D&iacute\;az\, Vicepresidente de Peque&ntilde\;os Negocios de Bank of America.&nbsp\;</span></span>\n<div>&nbsp\;</div>\n\n<div><span style="font-size:18px\;"><span style="font-family:tahoma\;">Ivan D&iacute\;az\, es un profesional cuya carrera bancaria comenz&oacute\; hace alrededor de 15 a&ntilde\;os. Ha trabajado en diversas &aacute\;reas\, como Banquero de finanzas personales\, Especialista en peque&ntilde\;os negocios\, banquero de inversiones\, gerente de un centro financiero y VP Banquero comercial.<br />\n<br />\nIvan est&aacute\; muy orgulloso de poder trabajar con due&ntilde\;os de peque&ntilde\;os negocios para ayudarles a cumplir sus metas financieras y al mismo tiempo contribuir al desarrollo de la econom&iacute\;a de la comunidad.</span></span></div>\n
LOCATION:
UID:e.9342.1587
SEQUENCE:3
DTSTAMP:20260423T063312Z
URL:http://georgiahcaga.memberzone.com/events/details/educaci&#243;n-financiera-para-latinas-en-construcci&#243;n-1587
END:VEVENT

END:VCALENDAR
