BEGIN:VCALENDAR
VERSION:2.0
PRODID:-//ChamberMaster//Event Calendar 2.0//EN
METHOD:PUBLISH
X-PUBLISHED-TTL:P3D
REFRESH-INTERVAL:P3D
CALSCALE:GREGORIAN
BEGIN:VEVENT
DTSTART:20220414T210000Z
DTEND:20220415T000000Z
X-MICROSOFT-CDO-ALLDAYEVENT:FALSE
SUMMARY:First GHCA Men's Golf Clinic
DESCRIPTION:Our First GHCA Men's Golf Clinic is here. Join us!\n\n \n\nThe GHCA Men's Golf Clinic is an activity for men who make a living in the construction sector in Georgia and want to improve their golf skills.\n\nSponsored by Cronos Contractors and Cadence Bank\n\n\n\nWhat do we offer?\n\n \n\nStarting April 14 and every Thursday\, we will meet at Top Golf in Alpharetta for six weeks to receive classes in small groups of 6 participants\, thus allowing more personalized attention.
X-ALT-DESC;FMTTYPE=text/html:<span style="background:white\;"><span style="color:black\;"><span style="font-family:tahoma\,sans-serif\;"><span style="font-size:16.5pt\;">Our First<strong><span style="font-family:tahoma\,sans-serif\;">&nbsp\;GHCA Men&#39\;s Golf Clinic</span></strong>&nbsp\;is here. Join us!</span></span></span></span><br style="font-variant-ligatures:normal\;font-variant-caps:normal\;orphans:2\;text-align:start\;widows:2\;-webkit-text-stroke-width:0px\;text-decoration-thickness:initial\;text-decoration-style:initial\;word-spacing:0px\;" />\n&nbsp\;<br style="font-variant-ligatures:normal\;font-variant-caps:normal\;orphans:2\;text-align:start\;widows:2\;-webkit-text-stroke-width:0px\;text-decoration-thickness:initial\;text-decoration-style:initial\;word-spacing:0px\;" />\n<span style="background:white\;"><span style="color:black\;"><span style="font-family:tahoma\,sans-serif\;"><span style="font-size:16.5pt\;"><span style="font-variant-ligatures:normal\;font-variant-caps:normal\;orphans:2\;text-align:start\;widows:2\;-webkit-text-stroke-width:0px\;text-decoration-thickness:initial\;text-decoration-style:initial\;word-spacing:0px\;">The&nbsp\;</span></span></span></span></span><strong style="color: rgb(0\, 0\, 0)\; font-family: tahoma\, sans-serif\; font-size: 22px\;">GHCA Men&#39\;s Golf Clinic</strong><span style="background:white\;"><span style="color:black\;"><span style="font-family:tahoma\,sans-serif\;"><span style="font-size:16.5pt\;"><span style="font-variant-ligatures:normal\;font-variant-caps:normal\;orphans:2\;text-align:start\;widows:2\;-webkit-text-stroke-width:0px\;text-decoration-thickness:initial\;text-decoration-style:initial\;word-spacing:0px\;">&nbsp\;is an activity for men who make a living in the construction sector in Georgia and want to improve their golf skills.<br />\nSponsored by <strong><em>Cronos Contractors</em></strong> and <strong><em>Cadence Bank</em></strong></span></span></span></span></span><br />\n<br style="font-variant-ligatures:normal\;font-variant-caps:normal\;orphans:2\;text-align:start\;widows:2\;-webkit-text-stroke-width:0px\;text-decoration-thickness:initial\;text-decoration-style:initial\;word-spacing:0px\;" />\n<strong style="font-variant-ligatures:normal\;font-variant-caps:normal\;orphans:2\;text-align:start\;widows:2\;-webkit-text-stroke-width:0px\;text-decoration-thickness:initial\;text-decoration-style:initial\;word-spacing:0px\;"><span style="background:white\;"><span style="color:black\;"><span style="font-family:tahoma\,sans-serif\;"><span style="font-size:16.5pt\;">What do we offer?</span></span></span></span></strong><br style="font-variant-ligatures:normal\;font-variant-caps:normal\;orphans:2\;text-align:start\;widows:2\;-webkit-text-stroke-width:0px\;text-decoration-thickness:initial\;text-decoration-style:initial\;word-spacing:0px\;" />\n&nbsp\;<br style="font-variant-ligatures:normal\;font-variant-caps:normal\;orphans:2\;text-align:start\;widows:2\;-webkit-text-stroke-width:0px\;text-decoration-thickness:initial\;text-decoration-style:initial\;word-spacing:0px\;" />\n<span style="background:white\;"><span style="color:black\;"><span style="font-family:tahoma\,sans-serif\;"><span style="font-size:16.5pt\;"><span style="font-variant-ligatures:normal\;font-variant-caps:normal\;orphans:2\;text-align:start\;widows:2\;-webkit-text-stroke-width:0px\;text-decoration-thickness:initial\;text-decoration-style:initial\;word-spacing:0px\;">Starting April 14 and every Thursday\, we will meet at&nbsp\;<strong><span style="font-family:tahoma\,sans-serif\;">Top Golf</span></strong>&nbsp\;in Alpharetta for six weeks to receive classes in small groups of 6 participants\, thus allowing more personalized attention.</span></span></span></span></span>
LOCATION:Location: Alpharetta Top Golf 10900 Westside Pkwy\, Alpharetta\, GA\, 30009
UID:e.9342.1656
SEQUENCE:3
DTSTAMP:20260422T081330Z
URL:http://georgiahcaga.memberzone.com/events/details/first-ghca-men-s-golf-clinic-1656
END:VEVENT

END:VCALENDAR
