BEGIN:VCALENDAR
VERSION:2.0
PRODID:-//ChamberMaster//Event Calendar 2.0//EN
METHOD:PUBLISH
X-PUBLISHED-TTL:P3D
REFRESH-INTERVAL:P3D
CALSCALE:GREGORIAN
BEGIN:VEVENT
DTSTART:20220719T200000Z
DTEND:20220719T223000Z
X-MICROSOFT-CDO-ALLDAYEVENT:FALSE
SUMMARY:Fleet Management / DOT Basics Workshop
DESCRIPTION:Are you thinking of replacing your fleet or making your first investment\, but don't know the best options in the market? We could certainly help! On July 19th we will host our first Effective Fleet Management & Construction Equipment Safety Workshop\, where experts will guide you to make the best decisions and understanding all the key factor involved in. \n\nOur goal is to provide you with tools that will not only helps you enhance productivity\, but it also helps you save money. And\, in today's competitive world\, saving time is especially important to stay on top of the industry.\n\nWe will also learn about OSHA s requirements for construction equipment and operators\, their standards and maintenance to guarantee safety at work site. In this session you will acquire valuable information regarding the process to certificate an operator with an accredited body and tips for the test preparation.
X-ALT-DESC;FMTTYPE=text/html:<span style="font-size:22px\;"><span style="font-family:tahoma\;"><span style="letter-spacing:.4pt\;background:white\;"><span style="color:black\;">Are you thinking of replacing your fleet or making your first investment\, but don&rsquo\;t know the best options in the market? We could certainly help! On July 19<sup>th</sup> we will host our first </span></span><strong><em><span style="color:black\;">Effective Fleet Management &amp\; Construction Equipment Safety Workshop</span></em></strong><strong><span style="color:black\;">\, </span></strong><span style="color:black\;">where experts will guide you to make the best decisions and understanding all the key factor involved in. </span><br />\n<span style="color:black\;">Our goal is to provide you with tools that will </span><span style="letter-spacing:.4pt\;background:white\;"><span style="color:black\;">not only helps you enhance productivity\, but it also helps you save money. And\, in today&rsquo\;s competitive world\, saving time is especially important to stay on top of the industry.</span></span><br />\n<span style="letter-spacing:.4pt\;background:white\;"><span style="color:black\;">We will also learn about OSHA&acute\;s requirements for construction equipment and operators\, their standards and maintenance to guarantee safety at work site. In this session you will acquire valuable information regarding the process to certificate an operator with an accredited body and tips for the test preparation.</span></span></span></span>
LOCATION:Rick Hendrick Chevrolet Atlanta
UID:e.9342.1672
SEQUENCE:3
DTSTAMP:20260422T024731Z
URL:http://georgiahcaga.memberzone.com/events/details/fleet-management-dot-basics-workshop-1672
END:VEVENT

END:VCALENDAR
