BEGIN:VCALENDAR
VERSION:2.0
PRODID:-//ChamberMaster//Event Calendar 2.0//EN
METHOD:PUBLISH
X-PUBLISHED-TTL:P3D
REFRESH-INTERVAL:P3D
CALSCALE:GREGORIAN
BEGIN:VEVENT
DTSTART;VALUE=DATE:20201029
DTEND;VALUE=DATE:20201030
TRANSP:TRANSPARENT
X-MICROSOFT-CDO-ALLDAYEVENT:TRUE
SUMMARY:FREE 5-WEEK LEGAL & BONDING TRAINING SERIES
DESCRIPTION:2020 VENDOR WORKSHOP TRAINING\n\nThe Department of Purchasing provides 2020 Vendor Workshop Training to vendors who want to do business with Fulton County Government and want to understand the procurement process. 2020 Vendor WorkshopTraining will be held in the Fulton County Government Center\, Department of Purchasing  at 130 Peachtree Street\, S.W.\, Suite 1168\, Atlanta\, Georgia 30303\, from 9:30 a.m. until 11:00 a.m. Time is allotted for questions and answers. There is no cost for training. For further assistance call the Department of Purchasing at (404) 612-5800.\n\n \n\nLEGAL & BONDING TRAINING SERIES\n\nSESSiON 1:\n\nBuilding a Legal Foundation Part I ? Basic understanding of legal governance documentsrequired to operate\; basics of written agreements\n\nSESSiON 2:\n\nBuilding a Bond Prequalification Foundation\; Basic understanding of the bond prequalification process\; Bonding for subcontractor vs. general contractor\n\nSESSiON 3:\n\nPractical Points from Prime Contractors ? Discussion about practical processes needed for next level contracting: Identification of system processes (e.g.\, financial and risk management)\, expanding your team and tricks of the trade\n\nSESSiON 4:\n\nBuilding a Legal Foundation Part II ? Subcontractor Agreement: Its Importance and Understanding Key Contracting Terms\n\nSESSiON 5:\n\nTransitioning from Bond Prequalification to Bond Execution\; Understanding the utilization of the SBA Surety Bond Guarantee Program\; Understanding Financial Statement Analysis for Bonding Purposes\; Work in Progress (WIP) Analysis
X-ALT-DESC;FMTTYPE=text/html:<p style="color: rgb(0\, 0\, 0)\; font-family: &quot\;normal Arial&quot\;\, Helvetica\, sans-serif\; font-size: 12px\; background-color: rgb(250\, 250\, 250)\; text-align: center\;"><span style="font-family:tahoma\;"><span style="color:#000000\;"><span style="font-size:22px\;"><strong>2020 VENDOR WORKSHOP TRAINING</strong></span></span></span></p>\n\n<p style="color: rgb(0\, 0\, 0)\; font-family: &quot\;normal Arial&quot\;\, Helvetica\, sans-serif\; font-size: 12px\; background-color: rgb(250\, 250\, 250)\; text-align: justify\;"><span style="font-family:tahoma\;"><span style="font-size:18px\;">The Department of Purchasing provides 2020 Vendor Workshop Training to vendors who want to do business with Fulton County Government and want to understand the procurement process. 2020 Vendor WorkshopTraining will be held in the Fulton County Government Center\, Department of Purchasing&nbsp\; at 130 Peachtree Street\, S.W.\, Suite 1168\, Atlanta\, Georgia 30303\, from 9:30 a.m. until 11:00 a.m. Time is allotted for questions and answers. There is no cost for training. For further assistance call the Department of Purchasing at (404) 612-5800.</span></span></p>\n\n<p style="color: rgb(0\, 0\, 0)\; font-family: &quot\;normal Arial&quot\;\, Helvetica\, sans-serif\; font-size: 12px\; background-color: rgb(250\, 250\, 250)\; text-align: justify\;">&nbsp\;</p>\n\n<h3 style="color: rgb(0\, 0\, 0)\; font-family: &quot\;normal Arial&quot\;\, Helvetica\, sans-serif\; background-color: rgb(250\, 250\, 250)\; text-align: center\;"><span style="font-family:tahoma\;"><span style="font-size:18px\;"><span style="color: rgb(65\, 61\, 61)\;"><strong>LEGAL &amp\; BONDING TRAINING SERIES</strong></span></span></span></h3>\n\n<p style="color: rgb(0\, 0\, 0)\; font-family: &quot\;normal Arial&quot\;\, Helvetica\, sans-serif\; font-size: 12px\; background-color: rgb(250\, 250\, 250)\; text-align: center\;"><span style="font-family:tahoma\;"><span style="font-size:18px\;"><strong>SESSiON 1:</strong></span></span></p>\n\n<p style="color: rgb(0\, 0\, 0)\; font-family: &quot\;normal Arial&quot\;\, Helvetica\, sans-serif\; font-size: 12px\; background-color: rgb(250\, 250\, 250)\; text-align: center\;"><span style="font-family:tahoma\;"><span style="font-size:18px\;"><strong>Building a Legal Foundation Part I ? Basic understanding of legal governance documentsrequired to operate\; basics of written agreements</strong></span></span></p>\n\n<p style="color: rgb(0\, 0\, 0)\; font-family: &quot\;normal Arial&quot\;\, Helvetica\, sans-serif\; font-size: 12px\; background-color: rgb(250\, 250\, 250)\; text-align: center\;"><span style="font-family:tahoma\;"><span style="font-size:18px\;"><strong>SESSiON 2:</strong></span></span></p>\n\n<p style="color: rgb(0\, 0\, 0)\; font-family: &quot\;normal Arial&quot\;\, Helvetica\, sans-serif\; font-size: 12px\; background-color: rgb(250\, 250\, 250)\; text-align: center\;"><span style="font-family:tahoma\;"><span style="font-size:18px\;"><strong>Building a Bond Prequalification Foundation\; Basic understanding of&nbsp\;the bond prequalification process\; Bonding for subcontractor vs. general contractor</strong></span></span></p>\n\n<p style="color: rgb(0\, 0\, 0)\; font-family: &quot\;normal Arial&quot\;\, Helvetica\, sans-serif\; font-size: 12px\; background-color: rgb(250\, 250\, 250)\; text-align: center\;"><span style="font-family:tahoma\;"><span style="font-size:18px\;"><strong>SESSiON 3:</strong></span></span></p>\n\n<p style="color: rgb(0\, 0\, 0)\; font-family: &quot\;normal Arial&quot\;\, Helvetica\, sans-serif\; font-size: 12px\; background-color: rgb(250\, 250\, 250)\; text-align: center\;"><span style="font-family:tahoma\;"><span style="font-size:18px\;"><strong>Practical Points from Prime Contractors ? Discussion about practical processes needed for next&nbsp\;level contracting: Identification of system processes (e.g.\, financial and risk management)\,&nbsp\;expanding your team and tricks of the trade</strong></span></span></p>\n\n<p style="color: rgb(0\, 0\, 0)\; font-family: &quot\;normal Arial&quot\;\, Helvetica\, sans-serif\; font-size: 12px\; background-color: rgb(250\, 250\, 250)\; text-align: center\;"><span style="font-family:tahoma\;"><span style="font-size:18px\;"><strong>SESSiON 4:</strong></span></span></p>\n\n<p style="color: rgb(0\, 0\, 0)\; font-family: &quot\;normal Arial&quot\;\, Helvetica\, sans-serif\; font-size: 12px\; background-color: rgb(250\, 250\, 250)\; text-align: center\;"><span style="font-family:tahoma\;"><span style="font-size:18px\;"><strong>Building a Legal Foundation Part II ? Subcontractor Agreement: Its Importance and&nbsp\;Understanding Key Contracting Terms</strong></span></span></p>\n\n<p style="color: rgb(0\, 0\, 0)\; font-family: &quot\;normal Arial&quot\;\, Helvetica\, sans-serif\; font-size: 12px\; background-color: rgb(250\, 250\, 250)\; text-align: center\;"><span style="font-family:tahoma\;"><span style="font-size:18px\;"><strong>SESSiON 5:</strong></span></span></p>\n\n<p style="color: rgb(0\, 0\, 0)\; font-family: &quot\;normal Arial&quot\;\, Helvetica\, sans-serif\; font-size: 12px\; background-color: rgb(250\, 250\, 250)\; text-align: center\;"><span style="font-family:tahoma\;"><span style="font-size:18px\;"><strong>Transitioning from Bond Prequalification to Bond Execution\; Understanding the utilization of the&nbsp\;SBA Surety Bond Guarantee Program\; Understanding Financial Statement Analysis for Bonding Purposes\;&nbsp\;Work in Progress (WIP) Analysis</strong></span></span></p>\n\n<p style="color: rgb(0\, 0\, 0)\; font-family: &quot\;normal Arial&quot\;\, Helvetica\, sans-serif\; font-size: 12px\; background-color: rgb(250\, 250\, 250)\; text-align: center\;">&nbsp\;</p>\n
LOCATION:REGISTER HERE Contact LisaS.Jackson@fultoncountyga.gov for more information
UID:e.9342.1534
SEQUENCE:3
DTSTAMP:20260424T054458Z
URL:http://georgiahcaga.memberzone.com/events/details/free-5-week-legal-bonding-training-series-1534
END:VEVENT

END:VCALENDAR
