BEGIN:VCALENDAR
VERSION:2.0
PRODID:-//ChamberMaster//Event Calendar 2.0//EN
METHOD:PUBLISH
X-PUBLISHED-TTL:P3D
REFRESH-INTERVAL:P3D
CALSCALE:GREGORIAN
BEGIN:VEVENT
DTSTART;VALUE=DATE:20230413
DTEND;VALUE=DATE:20230414
TRANSP:TRANSPARENT
X-MICROSOFT-CDO-ALLDAYEVENT:TRUE
SUMMARY:GAF CAROLINA REGION EXPO
DESCRIPTION:All the Best Business Insights\, Marketing Tips\, and More!\n\n\n\n\n\n\n\n\n\n\n\n\n\nYou're invited to join GAF on Thursday\, April 13\, 2023 at the Harrah's Cherokee Casino Resort for the 2023 GAF Carolina Region Expo. Hear from the pros\, attend engaging breakout sessions\, and expand your business knowledge when you:\n\n\n\n\n\n\n\n\n\n\n\n\n\n\n	Learn from industry experts discussing topics such as in-home selling\, the future of roofing culture\, warranties\, roofing law\, and lead generation\n	Check out our newest contractor products and programs that make it easier for you to run   and grow   your business with GAF\n	Hear from your peers and ask the questions that matter most to you during our contractor panel\n	Network with other top tier GAF contractors at our pre-reception the night before the event\n\n\nAnd so much more
X-ALT-DESC;FMTTYPE=text/html:<div class="Grid__row___hIrCK Grid__small___dAB00" style="border: 0px\; margin: 0px\; padding: 0px\; box-sizing: border-box\; display: flex\; flex-grow: 1\; flex-wrap: wrap\; font-family: fa32bbb0-c292-4022-8a8c-ea57b52f9f6c\; font-size: 16px\; background-color: rgb(243\, 243\, 243)\;">\n<div class="Grid__column___XZIPu Grid__col_12___QcLOG Grid__small___dAB00" style="border: 0px\; margin: 0px\; padding: 0px\; box-sizing: border-box\; display: flex\; flex-direction: column\; position: relative\; -webkit-box-flex: 0\; flex: 1 1 0%\; max-width: 100%\;">\n<div class="App__widgetIdcontainer___ms2gn" id="widget:eaebcb4b-b51e-406b-88c2-ab6b025dc22c" style="border: 0px\; margin: 0px\; padding: 0px\; box-sizing: border-box\; display: flex\; flex-direction: inherit\; flex-grow: 1\;">\n<div class="Text__container___RGfME" data-cvent-id="widget-NucleusText-widget:eaebcb4b-b51e-406b-88c2-ab6b025dc22c" style="border: 0px none transparent\; margin: 0px\; padding: 1.875rem 6.25rem 15px\; box-sizing: border-box\; overflow-wrap: break-word\; text-align: center\; background-color: transparent\; border-radius: 0px\; flex: 1 1 auto\;">\n<div style="border: 0px none transparent\; margin: 0px\; padding: 0px\; box-sizing: border-box\; background-color: transparent\; border-radius: 0px\; font-size: 1.875rem\; line-height: 1.3\; font-family: &quot\;Avant Garde Gothic&quot\;\, Arial\, Helvetica\, sans-serif\; color: rgb(77\, 77\, 79)\;">\n<div class="css-vsf5of" style="border: 0px\; margin: 0px\; padding: 0px\; box-sizing: border-box\;">\n<p class="carina-rte-public-DraftStyleDefault-block" style="border: 0px\; margin: 0px\; padding: 0px\; box-sizing: border-box\;"><span style="border: 0px\; margin: 0px\; padding: 0px\; box-sizing: border-box\;"><span style="border: 0px\; margin: 0px\; padding: 0px\; box-sizing: border-box\; font-weight: bold\;">All the Best Business Insights\, Marketing Tips\, and More!</span></span></p>\n</div>\n</div>\n</div>\n</div>\n</div>\n</div>\n\n<div class="Grid__row___hIrCK Grid__small___dAB00" style="border: 0px\; margin: 0px\; padding: 0px\; box-sizing: border-box\; display: flex\; flex-grow: 1\; flex-wrap: wrap\; font-family: fa32bbb0-c292-4022-8a8c-ea57b52f9f6c\; font-size: 16px\; background-color: rgb(243\, 243\, 243)\;">\n<div class="Grid__column___XZIPu Grid__col_12___QcLOG Grid__small___dAB00" style="border: 0px\; margin: 0px\; padding: 0px\; box-sizing: border-box\; display: flex\; flex-direction: column\; position: relative\; -webkit-box-flex: 0\; flex: 1 1 0%\; max-width: 100%\;">\n<div class="App__widgetIdcontainer___ms2gn" id="widget:ecbd7903-5afb-4954-8e75-bc73c50ee31c" style="border: 0px\; margin: 0px\; padding: 0px\; box-sizing: border-box\; display: flex\; flex-direction: inherit\; flex-grow: 1\;">\n<div class="Text__container___RGfME" data-cvent-id="widget-NucleusText-widget:ecbd7903-5afb-4954-8e75-bc73c50ee31c" style="border: 0px none transparent\; margin: 0px\; padding: 15px 15px 0px\; box-sizing: border-box\; overflow-wrap: break-word\; text-align: center\; background-color: transparent\; border-radius: 0px\; flex: 1 1 auto\;">\n<div style="border: 0px none transparent\; margin: 0px\; padding: 0px\; box-sizing: border-box\; background-color: transparent\; border-radius: 0px\; font-size: 1.25rem\; line-height: 1.3\; font-family: &quot\;Avant Garde Gothic&quot\;\, Arial\, Helvetica\, sans-serif\; color: rgb(77\, 77\, 79)\;">\n<div class="css-vsf5of" style="border: 0px\; margin: 0px\; padding: 0px\; box-sizing: border-box\;">\n<p class="carina-rte-public-DraftStyleDefault-block" style="border: 0px\; margin: 0px\; padding: 0px\; box-sizing: border-box\; text-align: left\;"><span style="border: 0px\; margin: 0px\; padding: 0px\; box-sizing: border-box\;">You&#39\;re invited to join GAF on&nbsp\;<span style="border: 0px\; margin: 0px\; padding: 0px\; box-sizing: border-box\; font-weight: bold\;">Thursday\, April 13\, 2023</span>&nbsp\;at the Harrah&#39\;s Cherokee Casino Resort for the&nbsp\;<span style="border: 0px\; margin: 0px\; padding: 0px\; box-sizing: border-box\; font-weight: bold\;">2023 GAF Carolina Region Expo</span>. Hear from the pros\, attend engaging breakout sessions\, and expand your business knowledge when you:</span></p>\n</div>\n</div>\n</div>\n</div>\n</div>\n</div>\n\n<div class="Grid__row___hIrCK Grid__small___dAB00" style="border: 0px\; margin: 0px\; padding: 0px\; box-sizing: border-box\; display: flex\; flex-grow: 1\; flex-wrap: wrap\; font-family: fa32bbb0-c292-4022-8a8c-ea57b52f9f6c\; font-size: 16px\; background-color: rgb(243\, 243\, 243)\;">\n<div class="Grid__column___XZIPu Grid__col_12___QcLOG Grid__small___dAB00" style="border: 0px\; margin: 0px\; padding: 0px\; box-sizing: border-box\; display: flex\; flex-direction: column\; position: relative\; -webkit-box-flex: 0\; flex: 1 1 0%\; max-width: 100%\;">\n<div class="App__widgetIdcontainer___ms2gn" id="widget:551fd44b-788c-4fe8-b399-365d981e4046" style="border: 0px\; margin: 0px\; padding: 0px\; box-sizing: border-box\; display: flex\; flex-direction: inherit\; flex-grow: 1\;">\n<div class="Text__container___RGfME" data-cvent-id="widget-NucleusText-widget:551fd44b-788c-4fe8-b399-365d981e4046" style="border: 0px none transparent\; margin: 0px\; padding: 15px\; box-sizing: border-box\; overflow-wrap: break-word\; text-align: center\; background-color: transparent\; border-radius: 0px\; flex: 1 1 auto\;">\n<div style="border: 0px none transparent\; margin: 0px\; padding: 0px\; box-sizing: border-box\; background-color: transparent\; border-radius: 0px\; font-size: 18px\; line-height: 1.3\; font-family: &quot\;Avant Garde Gothic&quot\;\, Arial\, Helvetica\, sans-serif\; color: rgb(77\, 77\, 79)\;">\n<div class="css-vsf5of" style="border: 0px\; margin: 0px\; padding: 0px\; box-sizing: border-box\;">\n<ul class="carina-rte-public-DraftStyleDefault-ul" style="border: 0px\; margin: 0px\; padding: 0px 0px 0.75em 1.5em\; box-sizing: border-box\;">\n	<li style="border: 0px\; margin: 0px\; padding: 0.25em 0px\; box-sizing: border-box\; text-align: left\;"><span style="border: 0px\; margin: 0px\; padding: 0px\; box-sizing: border-box\;">Learn from industry experts discussing topics such as in-home selling\, the future of roofing culture\, warranties\, roofing law\, and lead generation</span></li>\n	<li style="border: 0px\; margin: 0px\; padding: 0.25em 0px\; box-sizing: border-box\; text-align: left\;"><span style="border: 0px\; margin: 0px\; padding: 0px\; box-sizing: border-box\;">Check out our newest contractor products and programs that make it easier for you to run &mdash\; and grow &mdash\; your business with GAF</span></li>\n	<li style="border: 0px\; margin: 0px\; padding: 0.25em 0px\; box-sizing: border-box\; text-align: left\;"><span style="border: 0px\; margin: 0px\; padding: 0px\; box-sizing: border-box\;">Hear from your peers and ask the questions that matter most to you during our contractor panel</span></li>\n	<li style="border: 0px\; margin: 0px\; padding: 0.25em 0px\; box-sizing: border-box\; text-align: left\;"><span style="border: 0px\; margin: 0px\; padding: 0px\; box-sizing: border-box\;">Network with other top tier GAF contractors at our pre-reception the night before the event</span></li>\n</ul>\n\n<p class="carina-rte-public-DraftStyleDefault-block" style="border: 0px\; margin: 0px\; padding: 0px 0px 0.75em\; box-sizing: border-box\; text-align: left\;"><span style="border: 0px\; margin: 0px\; padding: 0px\; box-sizing: border-box\;"><span style="border: 0px\; margin: 0px\; padding: 0px\; box-sizing: border-box\; font-style: italic\;">And so much more&hellip\;</span></span></p>\n</div>\n</div>\n</div>\n</div>\n</div>\n</div>\n
LOCATION:Harrah's Cherokee Casino 777 Casino Drive Cherokee\, NC 28719
UID:e.9342.1730
SEQUENCE:3
DTSTAMP:20260421T060841Z
URL:http://georgiahcaga.memberzone.com/events/details/gaf-carolina-region-expo-1730
END:VEVENT

END:VCALENDAR
