BEGIN:VCALENDAR
VERSION:2.0
PRODID:-//ChamberMaster//Event Calendar 2.0//EN
METHOD:PUBLISH
X-PUBLISHED-TTL:P3D
REFRESH-INTERVAL:P3D
CALSCALE:GREGORIAN
BEGIN:VEVENT
DTSTART:20200317T150000Z
DTEND:20200317T170000Z
X-MICROSOFT-CDO-ALLDAYEVENT:FALSE
SUMMARY:GC Meet and Greet Event - The Blue book
DESCRIPTION:The Blue Book wants to invite you to our St. Patrick's Day GC Meet and Greet event coming up. \nRefreshments will be available as well as plenty of networking opportunities.
X-ALT-DESC;FMTTYPE=text/html:The Blue Book&nbsp\;<span style="color: rgb(34\, 34\, 34)\; font-family: Arial\, Helvetica\, sans-serif\; font-size: small\;">wants to invite you to our</span><span style="color:#000000\;"><span style="font-family: Arial\, Helvetica\, sans-serif\; font-size: small\;">&nbsp\;</span><span style="font-family: Arial\, Helvetica\, sans-serif\; font-size: small\;">St. Patrick&#39\;s Day</span></span><span style="font-family: Arial\, Helvetica\, sans-serif\; font-size: small\; color: rgb(22\, 160\, 133)\;">&nbsp\;</span><span style="color: rgb(34\, 34\, 34)\; font-family: Arial\, Helvetica\, sans-serif\; font-size: small\;">GC Meet and Greet event coming up.&nbsp\;</span>\n<p style="color: rgb(34\, 34\, 34)\; font-family: Arial\, Helvetica\, sans-serif\; font-size: small\;">Refreshments will be available as well as plenty of networking opportunities.&nbsp\;</p>\n
LOCATION:Boelter Food Services Design 3445 Breckinridge Blvd. Duluth\, GA 30096
UID:e.9342.1502
SEQUENCE:3
DTSTAMP:20260424T190605Z
URL:http://georgiahcaga.memberzone.com/events/details/gc-meet-and-greet-event-the-blue-book-1502
END:VEVENT

END:VCALENDAR
