BEGIN:VCALENDAR
VERSION:2.0
PRODID:-//ChamberMaster//Event Calendar 2.0//EN
METHOD:PUBLISH
X-PUBLISHED-TTL:P3D
REFRESH-INTERVAL:P3D
CALSCALE:GREGORIAN
BEGIN:VEVENT
DTSTART;VALUE=DATE:20200811
DTEND;VALUE=DATE:20200812
TRANSP:TRANSPARENT
X-MICROSOFT-CDO-ALLDAYEVENT:TRUE
SUMMARY:Georgia 811 Virtual 5k - FREE Event
DESCRIPTION:2020 Georgia 811 5K\n\nVirtual Event: August 11   September 12\n\n \n\n Georgia 811 is hosting our 5th annual 811 Run/Walk 5K\, August 11   September 12. In an effort to prioritize safety during these uncertain times\, this year's 5K will be a special virtual event promoting safe digging! Participation will be free as we work to spread the message across various media outlets of just how important it is to contact Georgia 811 before digging. \n\nHere's how it works:\n\n\n	Register for the 5k by CLICKING HERE. It's free to participate! There is an option to donate to the P4 Foundation if you would like. Scroll down on the registration page to grab your virtual bib\, which you may want to use in a selfie!\n	Order your shirt   We offer an opportunity to purchase a 5k T-shirt for $20 (includes shipping and handling). We have a fun artsy shirt this year in sky blue. Adult size small-5x are available as well as Youth Size Large available. Register early so you can have your shirt by the kick-off day on August 11. Allow 2 weeks for delivery.\n	This is a social media campaign 5k which is why we are making the run free! Copy our social media message posts or graphic to your Facebook\, Twitter or Instagram pages. Use one of our messages that are HERE (and also after you sign up on the registration page). Post a picture of you in your 5k shirt or with your virtual bib.\n	Make sure you include #Georgia811Virtual5k as part of your social media post. Also tag @GA811 on Facebook/Twitter or @Georgia811Adventures on Instagram.\n	Help us kick off 811 Day by completing your walk on August 11 or anytime up until September 12 (which would have been our original 5k event day).\n	Join other runners on our 5k dedicated Facebook page: https://www.facebook.com/Georgia8115k/\n	AND THERE'S MORE   We will have random drawings for prizes on September 13. So not only are you going to be able to participate for free\, but you may actually win a prize. Just don't forget to post a social media message and tag us at @GA811 to qualify.\n	\n		5 each $100 visa gift cards for random participants\n		4 each $25 visa gift cards for random participants\n		8 Georgia 811 Swag bags- a bundle of fun 811 giveaways
X-ALT-DESC;FMTTYPE=text/html:<p style="margin: 0px 0px 20px\; caret-color: rgb(102\, 102\, 102)\; color: rgb(102\, 102\, 102)\; font-family: &quot\;Helvetica Neue&quot\;\, Helvetica\, Arial\, sans-serif\; font-size: 14px\;"><span style="font-size:18px\;"><span style="font-family:tahoma\;"><strong>2020 Georgia 811 5K<br />\nVirtual Event: August 11 &ndash\; September 12</strong></span><br />\n&nbsp\;<br />\n<span style="font-family:tahoma\;">&nbsp\;Georgia 811 is hosting our 5th annual 811 Run/Walk 5K\, August 11 &ndash\; September 12. In an effort to prioritize safety during these uncertain times\, this year&rsquo\;s 5K will be a special virtual event promoting safe digging! Participation will be free as we work to spread the message across various media outlets of just how important it is to contact Georgia 811 before digging.&nbsp\;</span></span></p>\n\n<p style="margin: 0px 0px 20px\; caret-color: rgb(102\, 102\, 102)\; color: rgb(102\, 102\, 102)\; font-family: &quot\;Helvetica Neue&quot\;\, Helvetica\, Arial\, sans-serif\; font-size: 14px\;"><span style="font-size: 18px\; font-family: myriad-pro\, &quot\;Helvetica Neue&quot\;\, Helvetica\, Arial\, sans-serif\; color: rgb(51\, 51\, 51)\;">Here&rsquo\;s how it works:</span></p>\n\n<ol style="padding-right: 0px\; padding-left: 0px\; margin: 0px 0px 20px 25px\; caret-color: rgb(102\, 102\, 102)\; color: rgb(102\, 102\, 102)\; font-family: &quot\;Helvetica Neue&quot\;\, Helvetica\, Arial\, sans-serif\; font-size: 14px\;">\n	<li style="line-height: 20px\;"><span style="font-size:18px\;"><strong>Register</strong>&nbsp\;for the 5k by&nbsp\;<b><a class="content" href="http://www.runsignup.com/811" rel="noopener noreferrer" style="color: rgb(81\, 146\, 54)\; text-decoration: none\; transition: all 0.2s ease\; position: relative\; width: 100%\; z-index: 1\; font-family: Arial\; margin-bottom: 277px\;" target="_blank">CLICKING HERE</a></b>. It&rsquo\;s free to participate! There is an option to donate to the P4 Foundation if you would like. Scroll down on the registration page to grab your&nbsp\;<strong>virtual bib</strong>\, which you may want to use in a selfie!</span></li>\n	<li style="line-height: 20px\;"><span style="font-size:18px\;"><strong>Order your shirt</strong>&nbsp\;&ndash\; We offer an opportunity to purchase a 5k T-shirt for $20 (includes shipping and handling). We have a&nbsp\;<a class="content" href="https://www.georgia811.com/wp-content/uploads/2020/07/Georgia-811-Virtual-5K-2-Final.jpg" rel="noopener noreferrer" style="color: rgb(81\, 146\, 54)\; text-decoration: none\; transition: all 0.2s ease\; position: relative\; width: 100%\; z-index: 1\; font-family: Arial\; margin-bottom: 277px\;" target="_blank">fun artsy shirt</a>&nbsp\;this year in sky blue. Adult size small-5x are available as well as Youth Size Large available. Register early so you can have your shirt by the kick-off day on August 11. Allow 2 weeks for delivery.</span></li>\n	<li style="line-height: 20px\;"><span style="font-size:18px\;"><strong>This is a social media campaign 5k</strong>&nbsp\;which is why we are making the run free! Copy our social media message posts or graphic to your Facebook\, Twitter or Instagram pages. Use one of our messages that are&nbsp\;<b><a class="content" href="https://www.georgia811.com/wp-content/uploads/2020/07/GA811Run_5K_Social_Media_Posts.docx" style="color: rgb(81\, 146\, 54)\; text-decoration: none\; transition: all 0.2s ease\; position: relative\; width: 100%\; z-index: 1\; font-family: Arial\; margin-bottom: 277px\;">HERE</a></b>&nbsp\;(and also after you sign up on the registration page). Post a picture of you in your 5k shirt or with your virtual bib.</span></li>\n	<li style="line-height: 20px\;"><span style="font-size:18px\;">Make sure you include&nbsp\;<strong>#Georgia811Virtual5k</strong>&nbsp\;as part of your social media post. Also tag&nbsp\;<strong>@GA811</strong>&nbsp\;on Facebook/Twitter or&nbsp\;<strong>@Georgia811Adventures</strong>&nbsp\;on Instagram.</span></li>\n	<li style="line-height: 20px\;"><span style="font-size:18px\;">Help us kick off 811 Day by completing your walk on August 11 or anytime up until September 12 (which would have been our original 5k event day).</span></li>\n	<li style="line-height: 20px\;"><span style="font-size:18px\;">Join other runners on our 5k dedicated Facebook page:&nbsp\;<a class="content" href="https://www.facebook.com/Georgia8115k/" rel="noopener noreferrer" style="color: rgb(81\, 146\, 54)\; text-decoration: none\; transition: all 0.2s ease\; position: relative\; width: 100%\; z-index: 1\; font-family: Arial\; margin-bottom: 277px\;" target="_blank">https://www.facebook.com/Georgia8115k/</a></span></li>\n	<li style="line-height: 20px\;"><span style="font-size:18px\;">AND THERE&rsquo\;S MORE &ndash\; We will have random drawings for prizes on September 13. So not only are you going to be able to participate for free\, but you may actually win a prize. Just don&rsquo\;t forget to post a social media message and tag us at @GA811 to qualify.</span>\n	<ul style="padding-right: 0px\; padding-left: 0px\; margin: 0px 0px 0px 25px\;">\n		<li style="line-height: 20px\;"><span style="font-size:18px\;">5 each $100 visa gift cards for random participants</span></li>\n		<li style="line-height: 20px\;"><span style="font-size:18px\;">4 each $25 visa gift cards for random participants</span></li>\n		<li style="line-height: 20px\;"><span style="font-size:18px\;">8 Georgia 811 Swag bags- a bundle of fun 811 giveaways</span></li>\n	</ul>\n	</li>\n</ol>\n
LOCATION:Virtual Event https://www.facebook.com/Georgia8115k/ Location: Anywhere in the Continental U.S. What counts as a 5k? Run/Walk/jog/skip/walk the dog/stroll you get the idea!
UID:e.9342.1523
SEQUENCE:3
DTSTAMP:20260424T071132Z
URL:http://georgiahcaga.memberzone.com/events/details/georgia-811-virtual-5k-free-event-1523
END:VEVENT

END:VCALENDAR
