BEGIN:VCALENDAR
VERSION:2.0
PRODID:-//ChamberMaster//Event Calendar 2.0//EN
METHOD:PUBLISH
X-PUBLISHED-TTL:P3D
REFRESH-INTERVAL:P3D
CALSCALE:GREGORIAN
BEGIN:VEVENT
DTSTART:20220927T123000Z
DTEND:20220927T143000Z
X-MICROSOFT-CDO-ALLDAYEVENT:FALSE
SUMMARY:Georgia DOT Bootcamp. Workshop III
DESCRIPTION:Georgia DOT invites our GHCA members to participate:\n\nWorkshop III\n\nCoffee with King + Contractor Registration Trifecta\n\n(In-person)\n\nYou do not want to miss the opportunity to engage in a candid conversation with Georgia DOT's Equal Employment Opportunity (EEO) Director as she dialogues about the state of the DBE program and what is important for you to know.  \n\n \n\nIn conjunction with this forum\, Georgia DOT's Albert Shelby\, Director of Program Delivery\, and Jeremy Scott\, Assistant Office Administrator for the Construction Bidding Administration\, will share the importance of prequalification and registration when doing business with Georgia DOT. \n\n \n\nSpace is limited for this in-person event. Click here to register today!\n\n\n\nhttps://www.eventbrite.com/e/georgia-dot-2022-bootcamp-coffee-wking-contractor-registration-trifecta-tickets-399563795067
X-ALT-DESC;FMTTYPE=text/html:<span style="color:black\;"><span style="font-family:arial\,sans-serif\;"><span style="font-size:14.0pt\;">Georgia DOT invites our&nbsp\;GHCA members to participate:</span></span></span><br />\n<span style="color:black\;"><span style="font-family:arial\,sans-serif\;"><span style="font-size:14.0pt\;">Workshop III</span></span></span><br />\n<span style="color:black\;"><span style="font-family:arial\,sans-serif\;"><span style="font-size:14.0pt\;">Coffee with King + Contractor Registration Trifecta</span></span></span><br />\n<span style="color:black\;"><span style="font-family:arial\,sans-serif\;"><span style="font-size:14.0pt\;">(In-person)</span></span></span><br />\n<span style="color:black\;"><span style="font-family:arial\,sans-serif\;"><span style="font-size:14.0pt\;">You do not want to miss the opportunity to engage in a candid conversation with Georgia DOT&#39\;s Equal Employment Opportunity (EEO) Director as she dialogues about the state of the DBE program and what is important for you to know.&nbsp\; </span></span></span><br />\n&nbsp\;<br />\n<span style="color:black\;"><span style="font-family:arial\,sans-serif\;"><span style="font-size:14.0pt\;">In conjunction with this forum\, Georgia DOT&#39\;s Albert Shelby\, Director of Program Delivery\, and Jeremy Scott\, Assistant Office Administrator for the Construction Bidding Administration\, will share the importance of prequalification and registration when doing business with Georgia DOT. </span></span></span><br />\n&nbsp\;<br />\n<span style="color:black\;"><span style="font-family:arial\,sans-serif\;"><span style="font-size:14.0pt\;">Space is limited for this in-person event. Click here to register today!</span></span></span><br />\n<br />\nhttps://www.eventbrite.com/e/georgia-dot-2022-bootcamp-coffee-wking-contractor-registration-trifecta-tickets-399563795067\n<div>&nbsp\;</div>\n<br />\n&nbsp\;
LOCATION:Georgia DOT Headquarters: 600 West Peachtree NW. Atlanta\, GA 30308 Room 403
UID:e.9342.1685
SEQUENCE:3
DTSTAMP:20260421T213028Z
URL:http://georgiahcaga.memberzone.com/events/details/georgia-dot-bootcamp-workshop-iii-1685
END:VEVENT

END:VCALENDAR
