BEGIN:VCALENDAR
VERSION:2.0
PRODID:-//ChamberMaster//Event Calendar 2.0//EN
METHOD:PUBLISH
X-PUBLISHED-TTL:P3D
REFRESH-INTERVAL:P3D
CALSCALE:GREGORIAN
BEGIN:VEVENT
DTSTART:20240625T143000Z
DTEND:20240625T163000Z
X-MICROSOFT-CDO-ALLDAYEVENT:FALSE
SUMMARY:Get Certified\, Win and Grow
DESCRIPTION:Calling all company owners to learn about certifications for Women-Owned and Minority-Owned businesses.
X-ALT-DESC;FMTTYPE=text/html:<span style="font-size:18px\;"><span style="font-family:tahoma\;">Calling all company owners to learn about certifications for Women-Owned and Minority-Owned businesses.&nbsp\;</span></span>
LOCATION:504 Fair Street\, SW Atalnta\, GA 30313
UID:e.9342.1839
SEQUENCE:3
DTSTAMP:20260419T224556Z
URL:http://georgiahcaga.memberzone.com/events/details/get-certified-win-and-grow-1839
END:VEVENT

END:VCALENDAR
