BEGIN:VCALENDAR
VERSION:2.0
PRODID:-//ChamberMaster//Event Calendar 2.0//EN
METHOD:PUBLISH
X-PUBLISHED-TTL:P3D
REFRESH-INTERVAL:P3D
CALSCALE:GREGORIAN
BEGIN:VEVENT
DTSTART:20230622T180000Z
DTEND:20230622T200000Z
X-MICROSOFT-CDO-ALLDAYEVENT:FALSE
SUMMARY:Get Certified\, Win & Grow!
DESCRIPTION:Looking for a way to promote your company to major corporations?\n\nJoin us and learn about the process and criteria of becoming a Certified Women & Minority Business Enterprise. \n\n \n\nIf your business is\, at least\, 51 percent owned\, controlled\, operated\, and managed by a woman or women\, you are part of the fastest growing segments in Georgia. Probably you don't know all the vast network of support\, business opportunities\, education and development\, and networking and mentorship opportunities you have instant access to spur your growth and increase your visibility in corporate and government supply chains.\n\n \n\nThis is a free event\, organized by ACE Women's Business Center Metro Atlanta\, a Georgia 501(c)(3) nonprofit and community development financial institution (CDFI) in partnership with the GHCA\, GA Minority Supplier Development Council and Greater Women's Business Council.\n\n \n\nPRESENTERS:\n\nSonji Franklin- GA Minority Supplier Development Council\n\nSharon Judge- Greater Women's Business Council
X-ALT-DESC;FMTTYPE=text/html:<p class="has-text-align-center" style="box-sizing: border-box\; margin: 0px\; padding: 0px 0px 1em\; border: 0px\; outline: 0px\; font-size: 14px\; text-size-adjust: 100%\; vertical-align: baseline\; background-image: initial\; background-position: initial\; background-size: initial\; background-repeat: initial\; background-attachment: initial\; background-origin: initial\; background-clip: initial\; text-align: center\; color: rgb(70\, 70\, 70)\; font-family: &quot\;Open Sans&quot\;\, Helvetica\, Arial\, Lucida\, sans-serif\;"><span style="font-size:24px\;"><span style="font-family:tahoma\;"><span style="color:#464646\;">Looking for a way to promote your company to major corporations?<br style="box-sizing:border-box\;" />\nJoin us and learn about the process and criteria of becoming a Certified Women &amp\; Minority Business Enterprise. </span><br />\n&nbsp\;<br />\n<strong><span style="font-weight:normal\;"><span style="color:black\;">If your business is\, at least\, 51 percent owned\, controlled\, operated\, and managed by a woman or women<span style="font-variant-ligatures:normal\;font-variant-caps:normal\;orphans:2\;text-align:start\;widows:2\;-webkit-text-stroke-width:0px\;text-decoration-thickness:initial\;text-decoration-style:initial\;float:none\;word-spacing:0px\;">\,</span></span></span></strong><span style="color:black\;"> you are part of the </span><span style="background:white\;"><span style="color:#333333\;">fastest growing segments in Georgia</span></span>. Probably you don&rsquo\;t know all the <span style="color:black\;">vast network of support\, business opportunities\, education and development\, and networking and mentorship opportunities you have instant access to spur your growth and increase your visibility in corporate and government supply chains.</span><br />\n&nbsp\;<br />\n<span style="color:#464646\;">This is a free event\, organized by <span style="background:white\;"><em><strong>ACE Women&rsquo\;s Business Center Metro Atlanta</strong></em>\, a Georgia 501(c)(3) nonprofit and community development financial institution (CDFI) in partnership with the <strong><em>GHCA</em></strong>\, <strong><em>GA Minority Supplier Development Council </em></strong>and <em><strong>Greater Women&rsquo\;s Business Council</strong></em>.</span></span><br />\n&nbsp\;<br />\n<span style="color:#464646\;">PRESENTERS:<br style="box-sizing:border-box\;" />\n<strong>Sonji Franklin-</strong> GA Minority Supplier Development Council<br style="box-sizing:border-box\;" />\n<strong>Sharon Judge-</strong> Greater Women&rsquo\;s Business Council</span><br />\n&nbsp\;</span></span></p>\n\n<p class="has-text-align-center" style="margin:0in\;text-align:justify\;vertical-align:\nbaseline\;font-variant-ligatures: normal\;font-variant-caps: normal\;orphans: 2\;\nwidows: 2\;-webkit-text-stroke-width: 0px\;text-decoration-thickness: initial\;\ntext-decoration-style: initial\;text-decoration-color: initial\;box-sizing: border-box\;\noutline: 0px\;text-size-adjust: 100%\;background-image:initial\;background-position:\ninitial\;background-size: initial\;background-repeat:initial\;background-attachment:\ninitial\;background-origin: initial\;background-clip: initial\;word-spacing:0px"><span style="font-size:10.5pt\;font-family:&quot\;Open Sans&quot\;\,sans-serif\;color:#464646"><o:p></o:p></span></p>\n
LOCATION:Norcross ACE Women's Business Center 10 College Street NW Norcross\, GA\, 30071
UID:e.9342.1740
SEQUENCE:3
DTSTAMP:20260421T023532Z
URL:http://georgiahcaga.memberzone.com/events/details/get-certified-win-grow-1740
END:VEVENT

END:VCALENDAR
