BEGIN:VCALENDAR
VERSION:2.0
PRODID:-//ChamberMaster//Event Calendar 2.0//EN
METHOD:PUBLISH
X-PUBLISHED-TTL:P3D
REFRESH-INTERVAL:P3D
CALSCALE:GREGORIAN
BEGIN:VEVENT
DTSTART:20230502T210000Z
DTEND:20230503T000000Z
X-MICROSOFT-CDO-ALLDAYEVENT:FALSE
SUMMARY:GHCA 2023 Golf Clinic
DESCRIPTION:Starting March 28 and every Tuesday or Thursday (depending on the group schedule you join) we will meet at RiverPines Golf Course in Johns Creek for six weeks to master our abilities in golf. If you are not a natural\, don't worry\, we can start from the very beginning! \n\nThe lessons have been designed for small groups of 6 participants (women only\, men only or mixed\, you decide!)\, thus allowing more personalized attention. Don't be left behind in those conversations where business is done! \n\nSince 2021 we offer the Latinas en Construcci n Golf Clinic and last year we introduced GHCA Men Golf Clinic to help our members develop their skills and master the technicalities of the sport with ease\, understanding that these skills will help expand growth opportunities for their businesses and careers. And\, at the same time\, creating new connections in a fun environment! \n\nThis year we are introducing a new facility\, RiverPines Golf Course in Johns Creek\, to allow you to train on a real golf course\, the best way to get ready for our GHCA Golf Tournament 2023 on June 2 at Bear's Best! \n\n \n\n*Limited admission*
X-ALT-DESC;FMTTYPE=text/html:<span style="font-size:22px\;"><span style="font-family:tahoma\;"><span style="color:#000000\;"><span style="background:white\;">Starting <strong>March 28</strong> and every Tuesday or Thursday (depending on the group schedule you join) we will meet at&nbsp\;<strong>RiverPines Golf&nbsp\;Course</strong> in Johns Creek for six weeks to master our abilities in golf. If you are not a natural\, don&rsquo\;t worry\, we can start from the very beginning! </span><br />\n<span style="background:white\;">The lessons have been designed for small groups of 6 participants (women only\, men only or mixed\, you decide!)\, thus allowing more personalized attention. Don&rsquo\;t be left behind in those conversations where business is done! </span><br />\nSince 2021 we offer the&nbsp\;<strong><em>Latinas en Construcci&oacute\;n</em>&nbsp\;Golf Clinic </strong>and last year we introduced <strong>GHCA Men Golf Clinic</strong>&nbsp\;to help our members develop their skills and master the technicalities of the sport with ease\, understanding that these skills will help expand growth opportunities for their businesses and careers. And\, at the same time\, creating new connections in a fun environment!&nbsp\;<br />\n<span style="background:white\;">This year we are introducing a new facility\, <strong>RiverPines Golf&nbsp\;Course</strong> in Johns Creek\, to allow you to train on a real golf course\, the best way to get ready for our&nbsp\;<em><strong>GHCA Golf Tournament 2023</strong></em> on June 2 at&nbsp\;<strong>Bear&#39\;s Best</strong>! </span><br />\n&nbsp\;<br />\n<strong><em>*Limited admission*</em></strong></span></span></span>
LOCATION:RiverPines Golf Course 4775 Old Alabama Rd\, Johns Creek\, GA\, 30022
UID:e.9342.1720
SEQUENCE:3
DTSTAMP:20260421T042919Z
URL:http://georgiahcaga.memberzone.com/events/details/ghca-2023-golf-clinic-1720
END:VEVENT

END:VCALENDAR
